BEGIN:VCALENDAR
VERSION:2.0
PRODID:-//ChamberMaster//Event Calendar 2.0//EN
METHOD:PUBLISH
X-PUBLISHED-TTL:P3D
REFRESH-INTERVAL:P3D
CALSCALE:GREGORIAN
BEGIN:VEVENT
DTSTART:20200512T153000Z
DTEND:20200512T161500Z
X-MICROSOFT-CDO-ALLDAYEVENT:FALSE
SUMMARY:11:30 AM PPP Update - Focus on Forgiveness\, presented by Thomas Judy & Tucker
DESCRIPTION:On Tuesday\, May 12\, Thomas Judy & Tucker will host a webinar to discuss emerging issues around PPP loans. They will offer planning strategies to help your business qualify for loan forgiveness. The webinar will last from 11:30AM to 12:15PM with time for questions provided. Please register for this webinar in advance.
X-ALT-DESC;FMTTYPE=text/html:On Tuesday\, May 12\, Thomas Judy &amp\; Tucker will host a webinar to discuss emerging issues around PPP loans. They will offer planning strategies to help your business qualify for loan forgiveness. The webinar will last from 11:30AM to 12:15PM with time for questions provided. Please register for this webinar in advance.
LOCATION:Online webinar https://attendee.gotowebinar.com/register/4028305346551772687
UID:e.1159.5385
SEQUENCE:3
DTSTAMP:20260420T062340Z
URL:http://members.durhamchamber.org/events/details/11-30-am-ppp-update-focus-on-forgiveness-presented-by-thomas-judy-tucker-5385
END:VEVENT

END:VCALENDAR
