BEGIN:VCALENDAR
VERSION:2.0
PRODID:-//ChamberMaster//Event Calendar 2.0//EN
METHOD:PUBLISH
X-PUBLISHED-TTL:P3D
REFRESH-INTERVAL:P3D
CALSCALE:GREGORIAN
BEGIN:VEVENT
DTSTART:20190208T163000Z
DTEND:20190208T183000Z
X-MICROSOFT-CDO-ALLDAYEVENT:FALSE
SUMMARY:2019 Durham Chamber Annual Meeting
DESCRIPTION:We invite you to join the Greater Durham Chamber of Commerce and nearly 1\,000 professionals for the largest convening of business and industry leaders in Durham - the 2019 Annual Meeting. \n\n\n\nThe 113th Annual Meeting features accomplishments of the Chamber during the previous year\, presentation of the Civic Honor Award\, presentation of the Bull City Hall of Fame Award\, Keynote\, and the passing of the gavel from the outgoing chair to incoming chair. \n\n\n\nKeynote Speaker\n\nThis year's keynote will be delivered by North Carolina Governor Roy Cooper. \n\n\n\nAnnual Civic Honor Award\n\nThis longstanding tradition celebrates individuals who\, through immense dedication and personal resolve\, have made significant contributions to strengthening our community.  We celebrate them both to give deserved recognition and to inspire others to follow in their footsteps. This award will be presented to the Honorable Mickey Michaux by ABC-11. \n\n\n\nBull City Hall of Fame Award\n\nThis award recognizes an individual for their outstanding work that transcends Durham boundaries and has far reaching global implications. This award will be presented to the late Phail Wynn\, Jr.  by Duke University President Vincent E. Price. \n\n\n\nFor available partnerships\, contact Tiffany Malory at tmalory@durhamchamber.org.\n\nFor key investor & elected official tickets\, contact Pashara Black at pblack@durhamchamber.org.\n\n\n\n*No refunds\, but substitutions for the same event are encouraged.
X-ALT-DESC;FMTTYPE=text/html:We invite you to join the Greater Durham Chamber of Commerce and nearly 1\,000 professionals for the largest convening of business and industry leaders in Durham - the 2019 Annual Meeting.&nbsp\;<br />\n<br />\nThe 113th Annual Meeting features accomplishments of the Chamber during the previous year\, presentation of the Civic Honor Award\, presentation of the Bull City Hall of Fame Award\, Keynote\, and the passing of the gavel from the <a href="https://www.linkedin.com/in/indira-everett-08061029/">outgoing chair</a> to <a href="https://www.linkedin.com/in/caroline-welch-27b846b9/">incoming chair</a>.<em>&nbsp\;</em><br />\n<br />\n<strong>Keynote Speaker</strong><br />\nThis year&#39\;s keynote will be delivered by North Carolina Governor&nbsp\;<a href="https://governor.nc.gov/">Roy Cooper</a>.<em>&nbsp\;</em><br />\n<br />\n<strong>Annual Civic Honor Award</strong><br />\nThis longstanding tradition celebrates individuals who\, through immense dedication and personal resolve\,&nbsp\;have made significant contributions to strengthening our community. &nbsp\;We celebrate them both to give deserved recognition and to inspire others to follow in their footsteps. This award will be presented to the <a href="https://abc11.com/politics/retiring-state-rep-michaux-reflects-on-four-decades-of-public-service/4893582/">Honorable Mickey Michaux</a> by <a href="https://abc11.com/">ABC-11</a>.&nbsp\;<br />\n<br />\n<strong>Bull City Hall of Fame Award</strong><br />\nThis award recognizes an individual for their outstanding work that transcends Durham boundaries and has far reaching global implications. This award will be presented to the late <a href="https://durhamtech.edu/news/durham-tech-exceeds-suntrust-foundation-matching-challenge-expand-phail-wynn-scholarship">Phail Wynn\, Jr.&nbsp\;</a> by Duke University President <a href="https://duke.edu/about/leadership/price/">Vincent E. Price.&nbsp\;</a><br />\n<br />\nFor available <a href="http://durhamchamber.org/wp-content/uploads/2019/01/Annual-Meeting-Partnerships-2019.pdf">partnerships</a>\, contact Tiffany Malory at tmalory@durhamchamber.org.<br />\nFor key investor &amp\; elected official tickets\, contact Pashara Black at pblack@durhamchamber.org.<br />\n<br />\n<em>*No refunds\, but substitutions for the same event are encouraged.</em>
LOCATION:Sheraton Imperial Hotel @ RTP 4700 Emperor Blvd Durham\, NC 27703
UID:e.1159.3640
SEQUENCE:3
DTSTAMP:20260423T055648Z
URL:http://members.durhamchamber.org/events/details/2019-durham-chamber-annual-meeting-3640
END:VEVENT

END:VCALENDAR
