BEGIN:VCALENDAR
VERSION:2.0
PRODID:-//ChamberMaster//Event Calendar 2.0//EN
METHOD:PUBLISH
X-PUBLISHED-TTL:P3D
REFRESH-INTERVAL:P3D
CALSCALE:GREGORIAN
BEGIN:VEVENT
DTSTART:20191016T113000Z
DTEND:20191016T210000Z
X-MICROSOFT-CDO-ALLDAYEVENT:FALSE
SUMMARY:2019 Triangle Global Health Annual Conference
DESCRIPTION:Be a part of the 2019 Triangle Global Health Annual Conference on Wednesday\, October 16 in Durham\, North Carolina! Our 2019 theme is One Health: Creating our Shared Future -- Humans\, Animals\, and the Environment.\n\n\n\n The One Health concept is a worldwide approach to expanding interdisciplinary collaboration and communication on all aspects of health for humans\, animals\, and the environment. North Carolina brings a wealth of expertise and talent for implementing One Health across a spectrum of global health research\, practice\, policy\, and innovation. Throughout the conference\, we will examine how health for humans\, animals\, and the environment are inextricably linked\, and explore how our members and their partners are taking a One Health approach to promoting a healthy and sustainable future for all. \n\n\n\n The world gets smaller and more connected every day as interwoven channels of trade\, travel\, and communication enable the flow of goods\, people\, and information around the globe. While these interactions and integrated value chains make the movement of materials and services more efficient - opening up doors of opportunity for billions of people - they also increase the transmission of disease and expose human and animal populations to health risks at an accelerating pace. At the same time\, the tools and ability to prepare for and respond to these health risks are advancing.\n\n\n\nThis program will provide an opportunity for thought leaders\, innovators\, policymakers\, students\, and researchers to share their One Health experience and questions\, with the goal of advancing the use of global health and public health tools to achieve sustainable wellbeing for all. The program sessions will include a mix of speakers\, panels\, workshops\, and poster presentations that showcase current One Health best practices and encourage attendees and presenters to engage around key issues impacting human\, animal\, and environmental health across a spectrum of application areas. \n\n\n\nWe look forward to exploring the role of One Health in advancing global health and hope you will join us! \n\n\n\nDr. Tim Mastro\, Chief Science Officer\, FHI 360   Conference Chair\n\nJacob Traverse\, Executive Director\, TGHC
X-ALT-DESC;FMTTYPE=text/html:Be a part of the 2019 Triangle Global Health Annual Conference on Wednesday\, October 16 in Durham\, North Carolina! Our 2019 theme is One Health: Creating our Shared Future -- Humans\, Animals\, and the Environment.<br />\n<br />\n&#8203\;The One Health concept is a worldwide approach to expanding interdisciplinary collaboration and communication on all aspects of health for humans\, animals\, and the environment. North Carolina brings a wealth of expertise and talent for implementing One Health across a spectrum of global health research\, practice\, policy\, and innovation. Throughout the conference\, we will examine how health for humans\, animals\, and the environment are inextricably linked\, and explore how our members and their partners are taking a One Health approach to promoting a healthy and sustainable future for all.&nbsp\;<br />\n<br />\n&#8203\;The world gets smaller and more connected every day as interwoven channels of trade\, travel\, and communication enable the flow of goods\, people\, and information around the globe. While these interactions and integrated value chains make the movement of materials and services more efficient - opening up doors of opportunity for billions of people - they also increase the transmission of disease and expose human and animal populations to health risks at an accelerating pace. At the same time\, the tools and ability to prepare for and respond to these health risks are advancing.<br />\n<br />\nThis program will provide an opportunity for thought leaders\, innovators\, policymakers\, students\, and researchers to share their One Health experience and questions\, with the goal of advancing the use of global health and public health tools to achieve sustainable wellbeing for all. The program sessions will include a mix of speakers\, panels\, workshops\, and poster presentations that showcase current One Health best practices and encourage attendees and presenters to engage around key issues impacting human\, animal\, and environmental health across a spectrum of application areas.&nbsp\;<br />\n<br />\nWe look forward to exploring the role of One Health in advancing global health and hope you will join us!&nbsp\;<br />\n<br />\nDr. Tim Mastro\, Chief Science Officer\, FHI 360 &ndash\; Conference Chair<br />\nJacob Traverse\, Executive Director\, TGHC&nbsp\;
LOCATION:Durham Convention Center 301 West Morgan Street Durham\, NC
UID:e.1159.3792
SEQUENCE:3
DTSTAMP:20260419T232055Z
URL:http://members.durhamchamber.org/events/details/2019-triangle-global-health-annual-conference-3792
END:VEVENT

END:VCALENDAR
