BEGIN:VCALENDAR
VERSION:2.0
PRODID:-//ChamberMaster//Event Calendar 2.0//EN
METHOD:PUBLISH
X-PUBLISHED-TTL:P3D
REFRESH-INTERVAL:P3D
CALSCALE:GREGORIAN
BEGIN:VEVENT
DTSTART:20200207T163000Z
DTEND:20200207T183000Z
X-MICROSOFT-CDO-ALLDAYEVENT:FALSE
SUMMARY:2020 Annual Meeting
DESCRIPTION:We invite you to join the Greater Durham Chamber of Commerce and nearly 1\,000 professionals for the largest convening of business and industry leaders in Durham - the 2020 Annual Meeting. \n\n\n\nThe 114th Annual Meeting features accomplishments of the Chamber during the previous year\, presentation of the Civic Honor Award\, Keynote\, and the passing of the gavel from the outgoing chair to incoming chair. \n\n\n\nJeff Haden will be our 2020 Annual Meeting Keynote Speaker. Jeff is one of today's foremost - and most popular - business minds. He's a contributing editor for Inc. Magazine where he averages approximately 2.3 million readers each month. He's a LinkedIn Influencer with over 1 million followers and author of the New York Times bestselling book\, "The Motivation Myth: How High Achievers Really Set Themselves Up to Win."\n\n\n\nAnnual Civic Honor Award\n\nThis longstanding tradition celebrates individuals who\, through immense dedication and personal resolve\, have made significant contributions to strengthening our community. We celebrate them both to give deserved recognition and to inspire others to follow in their footsteps. \n\n\n\nTHIS EVENT WILL SELL-OUT!\n\nEarly-Bird ticket pricing is available now.\n\nKey Investors will receive a separate email with details on how to claim your seats to the event. If you have any questions\, contact Tiffany Malory at tmalory@durhamchamber.org.\n\n\n\nFor available partnerships\, also contact Tiffany at tmalory@durhamchamber.org.\n\n\n\nWe look forward to seeing you there!
X-ALT-DESC;FMTTYPE=text/html:We invite you to join the Greater Durham Chamber of Commerce and nearly 1\,000 professionals for the largest convening of business and industry leaders in Durham - the <strong>2020 Annual Meeting.&nbsp\;</strong><br />\n<br />\nThe 114th Annual Meeting features accomplishments of the Chamber during the previous year\, presentation of the Civic Honor Award\, Keynote\, and the passing of the gavel from the outgoing chair to incoming chair.&nbsp\;<br />\n<br />\nJeff Haden will be our 2020 Annual Meeting Keynote Speaker. Jeff is one of today&#39\;s foremost - and most popular - business minds. He&#39\;s a contributing editor for Inc. Magazine where he averages approximately 2.3 million readers each month. He&#39\;s a LinkedIn Influencer with over 1 million followers and author of the New York Times bestselling book\, &quot\;The Motivation Myth: How High Achievers Really Set Themselves Up to Win.&quot\;<br />\n<br />\nAnnual Civic Honor Award<br />\nThis longstanding tradition celebrates individuals who\, through immense dedication and personal resolve\, have made significant contributions to strengthening our community. We celebrate them both to give deserved recognition and to inspire others to follow in their footsteps.&nbsp\;<br />\n<br />\nTHIS EVENT WILL SELL-OUT!<br />\nEarly-Bird ticket pricing is available now.<br />\nKey Investors will receive a separate email with details on how to claim your seats to the event. If you have any questions\, contact Tiffany Malory at tmalory@durhamchamber.org.<br />\n<br />\nFor available partnerships\, also contact Tiffany at tmalory@durhamchamber.org.<br />\n<br />\nWe look forward to seeing you there!
LOCATION:Sheraton Imperial Hotel and Conference Center 4700 Emperor Blvd. Durham\, NC 27703
UID:e.1159.3732
SEQUENCE:3
DTSTAMP:20260419T222709Z
URL:http://members.durhamchamber.org/events/details/2020-annual-meeting-3732
END:VEVENT

END:VCALENDAR
