BEGIN:VCALENDAR
VERSION:2.0
PRODID:-//ChamberMaster//Event Calendar 2.0//EN
METHOD:PUBLISH
X-PUBLISHED-TTL:P3D
REFRESH-INTERVAL:P3D
CALSCALE:GREGORIAN
BEGIN:VEVENT
DTSTART:20191205T210000Z
DTEND:20191205T230000Z
X-MICROSOFT-CDO-ALLDAYEVENT:FALSE
SUMMARY:Bartlett Reserve's Jingle and Mingle
DESCRIPTION:You are invited to a Holiday Professional Networking Social on December 5 from 4:00-6:00 p.m. at Durham Chamber member Barlett Reserve!\n\n\n\nJoin them for networking\, hors d'oeuvres\, wine\, and door prizes!
X-ALT-DESC;FMTTYPE=text/html:You are invited to a Holiday Professional Networking Social on December 5 from 4:00-6:00 p.m. at Durham Chamber member Barlett Reserve!<br />\n<br />\nJoin them for networking\, hors d&#39\;oeuvres\, wine\, and door prizes!&nbsp\;
LOCATION:Bartlett Reserve 300 Meredith Drive Durham\, NC 27713
UID:e.1159.4815
SEQUENCE:3
DTSTAMP:20260420T055510Z
URL:http://members.durhamchamber.org/events/details/bartlett-reserve-s-jingle-and-mingle-4815
END:VEVENT

END:VCALENDAR
