BEGIN:VCALENDAR
VERSION:2.0
PRODID:-//ChamberMaster//Event Calendar 2.0//EN
METHOD:PUBLISH
X-PUBLISHED-TTL:P3D
REFRESH-INTERVAL:P3D
CALSCALE:GREGORIAN
BEGIN:VEVENT
DTSTART:20190909T120000Z
DTEND:20190911T220000Z
X-MICROSOFT-CDO-ALLDAYEVENT:FALSE
SUMMARY:Black Communities: A Conference for Collaboration
DESCRIPTION:The Black Communities Conference\, a.k.a. #BlackCom2019\, is a vibrant and uniquely important gathering featuring panel discussions\, local tours\, film screenings\, workshops\, keynotes\, and more .Our core mission is to foster collaboration among Black communities and universities for the purpose of enhancing Black community life and furthering the understanding of Black communities.
X-ALT-DESC;FMTTYPE=text/html:The Black Communities Conference\, a.k.a. #BlackCom2019\, is a vibrant and uniquely important gathering featuring panel discussions\, local tours\, film screenings\, workshops\, keynotes\, and more .Our core mission is to foster collaboration among Black communities and universities for the purpose of enhancing Black community life and furthering the understanding of Black communities.
LOCATION:Carolina Theatre 309 W Morgan Street Durham\, NC 27701
UID:e.1159.3777
SEQUENCE:3
DTSTAMP:20260421T041844Z
URL:http://members.durhamchamber.org/events/details/black-communities-a-conference-for-collaboration-3777
END:VEVENT

END:VCALENDAR
