BEGIN:VCALENDAR
VERSION:2.0
PRODID:-//ChamberMaster//Event Calendar 2.0//EN
METHOD:PUBLISH
X-PUBLISHED-TTL:P3D
REFRESH-INTERVAL:P3D
CALSCALE:GREGORIAN
BEGIN:VEVENT
DTSTART:20200908T190000Z
DTEND:20200908T200000Z
X-MICROSOFT-CDO-ALLDAYEVENT:FALSE
SUMMARY:Boost Your Money Management Skills for Your Small Business - Part 1
DESCRIPTION:Presented by Grow with Google\nWhether you're starting a new business or already managing one\, it's important to understand how to manage your business finances. Having good money management skills will help increase your business's opportunity for success. Part 1 will show you how to separate business and personal finances\, and track your business finances. Plus\, you'll learn about money management mistakes to avoid.\n\n \n\nProducts: Google Sheets\n\nDifficulty Level: Introductory
X-ALT-DESC;FMTTYPE=text/html:Presented by Grow with Google\n<div><font color="#4a4a4a" face="Google Sans\, Arial\, sans-serif"><span style="letter-spacing: 0.2px\; background-color: rgb(248\, 249\, 250)\;">Whether you&rsquo\;re starting a new business or already managing one\, it&rsquo\;s important to understand how to manage your business finances. Having good money management skills will help increase your business&rsquo\;s opportunity for success. Part 1 will show you how to separate business and personal finances\, and track your business finances. Plus\, you&rsquo\;ll learn about money management mistakes to avoid.</span></font></div>\n\n<div>&nbsp\;</div>\n\n<div><font color="#4a4a4a" face="Google Sans\, Arial\, sans-serif"><span style="letter-spacing: 0.2px\; background-color: rgb(248\, 249\, 250)\;">Products: Google Sheets</span></font></div>\n\n<div><font color="#4a4a4a" face="Google Sans\, Arial\, sans-serif"><span style="letter-spacing: 0.2px\; background-color: rgb(248\, 249\, 250)\;">Difficulty Level: Introductory</span></font></div>\n
LOCATION:Virtual Workshop
UID:e.1159.5514
SEQUENCE:3
DTSTAMP:20260420T005321Z
URL:http://members.durhamchamber.org/events/details/boost-your-money-management-skills-for-your-small-business-part-1-5514
END:VEVENT

END:VCALENDAR
