BEGIN:VCALENDAR
VERSION:2.0
PRODID:-//ChamberMaster//Event Calendar 2.0//EN
METHOD:PUBLISH
X-PUBLISHED-TTL:P3D
REFRESH-INTERVAL:P3D
CALSCALE:GREGORIAN
BEGIN:VEVENT
DTSTART:20200909T190000Z
DTEND:20200909T200000Z
X-MICROSOFT-CDO-ALLDAYEVENT:FALSE
SUMMARY:Boost Your Money Management Skills for Your Small Business - Part 2
DESCRIPTION:Presented by Grow with Google\n\n\nWhether you're starting a new business or already managing one\, it's important to understand how to manage your business finances.  Having good money management skills will help increase your business's opportunity for success. Part 2 will help you understand cash flow and profit & loss. Plus\, you'll learn about money management mistakes to avoid.\n\n\n\nProducts: Google Sheets\n\nDifficulty Level: Introductory
X-ALT-DESC;FMTTYPE=text/html:Presented by Grow with Google\n<div><br />\nWhether you&rsquo\;re starting a new business or already managing one\, it&rsquo\;s important to understand how to manage your business finances.&nbsp\; Having good money management skills will help increase your business&rsquo\;s opportunity for success. Part 2 will help you understand cash flow and profit &amp\; loss. Plus\, you&rsquo\;ll learn about money management mistakes to avoid.<br />\n<br />\nProducts: Google Sheets<br />\nDifficulty Level: Introductory</div>\n
LOCATION:Virtual Workshop
UID:e.1159.5515
SEQUENCE:3
DTSTAMP:20260420T023651Z
URL:http://members.durhamchamber.org/events/details/boost-your-money-management-skills-for-your-small-business-part-2-5515
END:VEVENT

END:VCALENDAR
