BEGIN:VCALENDAR
VERSION:2.0
PRODID:-//ChamberMaster//Event Calendar 2.0//EN
METHOD:PUBLISH
X-PUBLISHED-TTL:P3D
REFRESH-INTERVAL:P3D
CALSCALE:GREGORIAN
BEGIN:VEVENT
DTSTART:20190131T223000Z
DTEND:20190201T000000Z
X-MICROSOFT-CDO-ALLDAYEVENT:FALSE
SUMMARY:Business After Hours - Hilton near Duke
DESCRIPTION:Hilton Durham Near Duke University is proud to partner with the Greater Durham Chamber of Commerce to host the first Business After Hours of the year. Come and enjoy lite hors d' oeuvres and beverages\, then take a tour of the brand new renovated event space at your new favorite Durham hotel. Network with all the movers and shakers from the Durham professional community.\n\n\n\nWe can't wait to see you there!
X-ALT-DESC;FMTTYPE=text/html:<strong style="font-family: arial\; font-size: 16px\;">Hilton Durham Near Duke University</strong><span style="font-family: arial\; font-size: 16px\;">&nbsp\;is proud to partner with the Greater Durham Chamber of Commerce</span><strong style="font-family: arial\; font-size: 16px\;">&nbsp\;</strong><span style="font-family: arial\; font-size: 16px\;">to host the first&nbsp\;</span><strong style="font-family: arial\; font-size: 16px\;">Business After Hours</strong><span style="font-family: arial\; font-size: 16px\;">&nbsp\;of the year. Come and enjoy lite hors d&rsquo\; oeuvres and beverages\, then take a tour of the brand new renovated event space at your new favorite Durham hotel. Network with all the movers and shakers from the Durham professional community.</span><br style="font-family: arial\; font-size: 16px\;" />\n<br style="font-family: arial\; font-size: 16px\;" />\n<span style="font-family: arial\; font-size: 16px\;">We can&rsquo\;t wait to see you there!</span>
LOCATION:Hilton Durham near Duke University 3800 Hillsborough Road Durham\, NC 27705
UID:e.1159.3695
SEQUENCE:3
DTSTAMP:20260423T030921Z
URL:http://members.durhamchamber.org/events/details/business-after-hours-hilton-near-duke-3695
END:VEVENT

END:VCALENDAR
