BEGIN:VCALENDAR
VERSION:2.0
PRODID:-//ChamberMaster//Event Calendar 2.0//EN
METHOD:PUBLISH
X-PUBLISHED-TTL:P3D
REFRESH-INTERVAL:P3D
CALSCALE:GREGORIAN
BEGIN:VEVENT
DTSTART:20191024T210000Z
DTEND:20191024T220000Z
X-MICROSOFT-CDO-ALLDAYEVENT:FALSE
SUMMARY:Candidate Meet & Greet @ Pour Taproom
DESCRIPTION:Pour Taproom invites you to meet the candidates running for Durham City Council!
X-ALT-DESC;FMTTYPE=text/html:Pour Taproom invites you to meet the candidates running for Durham City Council!
LOCATION:Pour Taproom 202 N.Corcoran Street Downtown Durham
UID:e.1159.4806
SEQUENCE:3
DTSTAMP:20260419T193841Z
URL:http://members.durhamchamber.org/events/details/candidate-meet-greet-pour-taproom-4806
END:VEVENT

END:VCALENDAR
