BEGIN:VCALENDAR
VERSION:2.0
PRODID:-//ChamberMaster//Event Calendar 2.0//EN
METHOD:PUBLISH
X-PUBLISHED-TTL:P3D
REFRESH-INTERVAL:P3D
CALSCALE:GREGORIAN
BEGIN:VEVENT
DTSTART:20140924T123000Z
DTEND:20140924T140000Z
X-MICROSOFT-CDO-ALLDAYEVENT:FALSE
SUMMARY:Chamber U - Tattoos or Tuxedos - The Image You Project Matters
DESCRIPTION:Tattoos or Tuxedos:  the image you project matters.  Pictures tell the story on your web site\, social media and in print. You have spent thousands\; if not millions developing your people\, products and services  do your pictures tell the same story.  From snapshots\, to headshots or full production photo shoots\, Scott will draw the curtain back on Professional Photography and what you need to know about crafting your image to your brand.\n\n \n\nPresented by:  Scott Faber\n\nScott graduated from the prestigious Brook's Institute of Photography with a Bachelor of Arts\, in Scientific and Industrial photography. After a brief stint in a Hollywood Studio where movie stars and studio back lots were common fare  he moved up to the far more interesting and creative town of Durham.  He has run a successful photography studio since 1996 that provides a wide array of photographic services from babies to commercial architecture.
X-ALT-DESC;FMTTYPE=text/html:<span style="font-size:12.0pt\;">Tattoos or Tuxedos:&nbsp\; the image you project matters.&nbsp\; Pictures tell the story on your web site\, social media and in print. You have spent thousands\; if not millions developing your people\, products and services&hellip\; do your pictures tell the same story.&nbsp\; From snapshots\, to headshots or full production photo shoots\, Scott will draw the curtain back on Professional Photography and what you need to know about crafting your image to your brand.</span><br />\n&nbsp\;<br />\n<span style="font-size:12.0pt\;">Presented by: &nbsp\;Scott Faber</span><br />\n<span style="font-size:12.0pt\;">Scott graduated from the prestigious Brook&rsquo\;s Institute of Photography with a Bachelor of Arts\, in Scientific and Industrial photography. After a brief stint in a Hollywood Studio where movie stars and studio back lots were common fare&hellip\; he moved up to the far more interesting and creative town of Durham.&nbsp\; He has run a successful photography studio since 1996 that provides a wide array of photographic services from babies to commercial architecture.&nbsp\;</span>
LOCATION:
UID:e.1159.1611
SEQUENCE:3
DTSTAMP:20260423T155300Z
URL:http://members.durhamchamber.org/events/details/chamber-u-tattoos-or-tuxedos-the-image-you-project-matters-09-24-2014-1611
END:VEVENT

END:VCALENDAR
