BEGIN:VCALENDAR
VERSION:2.0
PRODID:-//ChamberMaster//Event Calendar 2.0//EN
METHOD:PUBLISH
X-PUBLISHED-TTL:P3D
REFRESH-INTERVAL:P3D
CALSCALE:GREGORIAN
BEGIN:VEVENT
DTSTART:20200529T130000Z
DTEND:20200529T140000Z
X-MICROSOFT-CDO-ALLDAYEVENT:FALSE
SUMMARY:Coping with the COVID-19 Crisis\, presented in partnership with the Raleigh Chamber
DESCRIPTION:Learn Strategies to Reduce the Stress of Our New Normal\n\n\n\nWe all are facing challenges related to the COVID-19 pandemic. Many of us are working remotely. Some may have lost their income entirely.\n\n\n\nWhether you are experiencing financial hardships\, or trying to balance all of your responsibilities\, it is natural to feel like you are losing control. These stressors can lead to:\n\n	Increased anxiety/depression\n	Social isolation\n	Relationship challenges\n	Lack of exercise\n	Disruption of sleep patterns\n\n\n\nJoin us for a webinar presented by the Raleigh Chamber\, where you will learn strategies to cope with the COVID-19 crisis. You will hear from these two speakers from Triangle Springs:\n\n	Amanda Piec\, Director of Clinical Services\n	Monique Sorensen\, Director of Outpatient Services\n\n\n\nYou also will have an opportunity to ask the speakers questions.\n\n\n\nSharing experiences and learning that you are not alone can be extremely helpful during this current situation. We hope that you will join us for this virtual conversation.\n\n\n\nEach registered attendee will receive the webinar meeting information directly within 1-2 business days of registration and in multiple reminders prior to the live event.\n\n\n\nFor registration questions or to use an alternate email address for your webinar event reminders\, call 919.664.7082 or email Bailey Siebel.
X-ALT-DESC;FMTTYPE=text/html:Learn Strategies to Reduce the Stress of Our New Normal<br />\n<br />\nWe all are facing challenges related to the COVID-19 pandemic. Many of us are working remotely. Some may have lost their income entirely.<br />\n<br />\nWhether you are experiencing financial hardships\, or trying to balance all of your responsibilities\, it is natural to feel like you are losing control. These stressors can lead to:\n<ul>\n	<li>Increased anxiety/depression</li>\n	<li>Social isolation</li>\n	<li>Relationship challenges</li>\n	<li>Lack of exercise</li>\n	<li>Disruption of sleep patterns</li>\n</ul>\n<br />\nJoin us for a webinar presented by the Raleigh Chamber\, where you will learn strategies to cope with the COVID-19 crisis. You will hear from these two speakers from Triangle Springs:\n<ul>\n	<li>Amanda Piec\, Director of Clinical Services</li>\n	<li>Monique Sorensen\, Director of Outpatient Services</li>\n</ul>\n<br />\nYou also will have an opportunity to ask the speakers questions.<br />\n<br />\nSharing experiences and learning that you are not alone can be extremely helpful during this current situation. We hope that you will join us for this virtual conversation.<br />\n<br />\nEach registered attendee will receive the webinar meeting information directly within 1-2 business days of registration and in multiple reminders prior to the live event.<br />\n<br />\nFor registration questions or to use an alternate email address for your webinar event reminders\, call 919.664.7082 or email <a href="mailto:bsiebel@raleighchamber.org">Bailey Siebel</a>.
LOCATION:Online webinar
UID:e.1159.5415
SEQUENCE:3
DTSTAMP:20260420T204506Z
URL:http://members.durhamchamber.org/events/details/coping-with-the-covid-19-crisis-presented-in-partnership-with-the-raleigh-chamber-5415
END:VEVENT

END:VCALENDAR
