BEGIN:VCALENDAR
VERSION:2.0
PRODID:-//ChamberMaster//Event Calendar 2.0//EN
METHOD:PUBLISH
X-PUBLISHED-TTL:P3D
REFRESH-INTERVAL:P3D
CALSCALE:GREGORIAN
BEGIN:VEVENT
DTSTART:20190912T193000Z
DTEND:20190912T223000Z
X-MICROSOFT-CDO-ALLDAYEVENT:FALSE
SUMMARY:Durham Arts Council Arts in Education Fair
DESCRIPTION:Join us on Thursday\, September 12\, 2019 from 3:30 - 6:30pm at the Durham Arts Council located at 120 Morris Street\, Durham\, NC 27701. This annual event invites teachers\, program coordinators\, and parents to learn about the CAPS artists-in-schools program and other community arts programs\, field trips and other arts & cultural educational opportunities - all in one place! \nLearn about Arts programs to support:\n\n- K- 12 curriculum\n\n- Arts Integration\n\n- STEM & STEAM\n\n- Cultural Learning\n\n- Seniors\n\n- Veterans\n\n- Early Childhood/Preschools\n\n- Homeschools\n\n- After-School programs\n\n- Summer Camps\n\n- Libraries\n\nRegistration includes refreshments\, teaching resources\, and 1 prize drawing ticket. We look forward to seeing you! For more information & full schedule (available soon)\, visit www.durhamartscouncilcaps.com
X-ALT-DESC;FMTTYPE=text/html:<span style="color: rgba(0\, 0\, 0\, 0.87)\; font-family: Roboto\, RobotoDraft\, Helvetica\, Arial\, sans-serif\; white-space: pre-wrap\;">Join us on Thursday\, September 12\, 2019 from 3:30 - 6:30pm at the Durham Arts Council located at 120 Morris Street\, Durham\, NC 27701. This annual event invites teachers\, program coordinators\, and parents to learn about the CAPS artists-in-schools program and other community arts programs\, field trips and other arts &amp\; cultural educational opportunities - all in one place! </span>\n<p style="color: rgba(0\, 0\, 0\, 0.87)\; font-family: Roboto\, RobotoDraft\, Helvetica\, Arial\, sans-serif\; white-space: pre-wrap\;">Learn about Arts programs to support:<br />\n- K- 12 curriculum<br />\n- Arts Integration<br />\n- STEM &amp\; STEAM<br />\n- Cultural Learning<br />\n- Seniors<br />\n- Veterans<br />\n- Early Childhood/Preschools<br />\n- Homeschools<br />\n- After-School programs<br />\n- Summer Camps<br />\n- Libraries</p>\n\n<p style="color: rgba(0\, 0\, 0\, 0.87)\; font-family: Roboto\, RobotoDraft\, Helvetica\, Arial\, sans-serif\; white-space: pre-wrap\;">Registration includes refreshments\, teaching resources\, and 1 prize drawing ticket. We look forward to seeing you! For more information &amp\; full schedule (available soon)\, visit <a href="https://www.google.com/url?q=http://www.durhamartscouncilcaps.com&amp\;sa=D&amp\;ust=1565968979511000&amp\;usg=AFQjCNEHUmxqN6n0l0_duPKdxwtiP09AyA">www.durhamartscouncilcaps.com</a></p>\n
LOCATION:Durham Arts Council 120 Morris Street\, Durham\, NC 27701
UID:e.1159.3778
SEQUENCE:3
DTSTAMP:20260422T173727Z
URL:http://members.durhamchamber.org/events/details/durham-arts-council-arts-in-education-fair-3778
END:VEVENT

END:VCALENDAR
