BEGIN:VCALENDAR
VERSION:2.0
PRODID:-//ChamberMaster//Event Calendar 2.0//EN
METHOD:PUBLISH
X-PUBLISHED-TTL:P3D
REFRESH-INTERVAL:P3D
CALSCALE:GREGORIAN
BEGIN:VEVENT
DTSTART:20181003T133000Z
DTEND:20181003T143000Z
X-MICROSOFT-CDO-ALLDAYEVENT:FALSE
SUMMARY:Education Forum: Made in Durham
DESCRIPTION:Join us for a presentation from Made in Durham.\n\n\n\nPlease register for a headcount\, and arrive early to find our office. We encourage transit and validate parking in our deck\, but there are other deck and street options nearby as well. We have restrooms\, Wi-Fi\, coffee\, soft drinks\, water\, and sometimes snacks but there is a small shop in our lobby in addition to the many dining options within walking distance\, feel free to arrive early and/or bring your own if helpful.
X-ALT-DESC;FMTTYPE=text/html:Join us for a presentation from <a href="http://madeindurham.org/">Made in Durham</a>.<br />\n<br />\nPlease register for a headcount\, and arrive early to find our office. We encourage <a href="https://gotriangle.org/trip-planner">transit</a> and validate parking in our deck\, but there are other deck and street options nearby as well. We have restrooms\, Wi-Fi\, coffee\, soft drinks\, water\, and sometimes snacks but there is a small shop in our lobby in addition to the many dining options within walking distance\, feel free to arrive early and/or bring your own if helpful.
LOCATION:Greater Durham Chamber of Commerce 300 W Morgan St #1400 Durham\, NC
UID:e.1159.3625
SEQUENCE:3
DTSTAMP:20260425T031030Z
URL:http://members.durhamchamber.org/events/details/education-forum-made-in-durham-3625
END:VEVENT

END:VCALENDAR
