BEGIN:VCALENDAR
VERSION:2.0
PRODID:-//ChamberMaster//Event Calendar 2.0//EN
METHOD:PUBLISH
X-PUBLISHED-TTL:P3D
REFRESH-INTERVAL:P3D
CALSCALE:GREGORIAN
BEGIN:VEVENT
DTSTART:20190206T143000Z
DTEND:20190206T153000Z
X-MICROSOFT-CDO-ALLDAYEVENT:FALSE
SUMMARY:Education Forum with STEM in the Park
DESCRIPTION:Join us for the first Education Forum of the year!\n\n\n\nWe'll have a presentation by RTP's STEM in the Park discussing the facilitation of hands-on mentoring and engagement opportunities with STEM professionals. STEM in the Park focueses on opening up the world of STEM to underrepresented minorities\, girls\, and students from low-income backgrounds. \n\nPlease register for a headcount\, and arrive early to find our office. We encourage transit and validate parking in our deck.
X-ALT-DESC;FMTTYPE=text/html:<p><span style="font-size:16px\;"><span style="text-align: left\; text-transform: none\; line-height: 20.8px\; text-indent: 0px\; letter-spacing: normal\; font-style: normal\; font-variant: normal\; font-weight: 400\; text-decoration: none\; word-spacing: 0px\; white-space: normal\; cursor: text\; orphans: 2\; float: none\; -webkit-text-stroke-width: 0px\; display: inline !important\;">Join us for the first Education Forum of the year!<br />\n<br />\nWe&#39\;ll have a presentation by RTP&rsquo\;s <a href="https://www.rtp.org/about-us/stem-in-the-park/">STEM in the Park</a>&nbsp\;discussing the facilitation of hands-on mentoring and engagement opportunities with STEM professionals. STEM in the Park focueses on opening up the world&nbsp\;of STEM to underrepresented minorities\, girls\, and students from low-income backgrounds.&nbsp\;</span></span></p>\n\n<p><span style="font-size:16px\;"><span style="text-align: left\; text-transform: none\; line-height: 20.8px\; text-indent: 0px\; letter-spacing: normal\; font-style: normal\; font-variant: normal\; font-weight: 400\; text-decoration: none\; word-spacing: 0px\; white-space: normal\; cursor: text\; orphans: 2\; float: none\; -webkit-text-stroke-width: 0px\; display: inline !important\;">Please register for a headcount\, and arrive early to find our office. We encourage <a href="https://gotriangle.org/trip-planner">transit</a> and validate parking in our deck.</span></span></p>\n
LOCATION:Greater Durham Chamber of Commerce 300 W Morgan St #1400 Durham\, NC
UID:e.1159.3664
SEQUENCE:3
DTSTAMP:20260423T115342Z
URL:http://members.durhamchamber.org/events/details/education-forum-with-stem-in-the-park-3664
END:VEVENT

END:VCALENDAR
