BEGIN:VCALENDAR
VERSION:2.0
PRODID:-//ChamberMaster//Event Calendar 2.0//EN
METHOD:PUBLISH
X-PUBLISHED-TTL:P3D
REFRESH-INTERVAL:P3D
CALSCALE:GREGORIAN
BEGIN:VEVENT
DTSTART:20200218T170000Z
DTEND:20200218T183000Z
X-MICROSOFT-CDO-ALLDAYEVENT:FALSE
SUMMARY:EVENT FULL: Executive Lunch Series: Mark Jacobson's Dream Machines
DESCRIPTION:This event has reached capacity\, however we are starting a waitlist.\n\n\n\nWe are excited to kick off our 2020 Executive Lunch Series at Mark Jacobson's Dream Machines Showroom! (We bet you didn't know it was there!)\n\n\n\nLocated at their indoor Used Car Superstore in Durham\, Mark Jacobson's Dream Machines is a growing collection of classic cars from the 50's\, 60's\, 70's and beyond. Mark has assembled an assortment of rare collectibles and personal favorites that are both fun and historically significant. A wide range of car manufacturers are showcased\, including some interesting old Toyotas!\n\n\n\nJoin other Chamber members for lunch and an exclusive look at this unique\, hidden treasure\, right here in Durham! Space is limited so register today!
X-ALT-DESC;FMTTYPE=text/html:This event has reached capacity\, however we are starting a waitlist.<br />\n<br />\nWe are excited to kick off our 2020 Executive Lunch Series at Mark Jacobson&#39\;s Dream Machines Showroom! (We bet you didn&#39\;t know it was there!)<br />\n<br />\nLocated at their indoor Used Car Superstore in Durham\, Mark Jacobson&#39\;s Dream Machines is a growing collection of classic cars from the 50&#39\;s\, 60&#39\;s\, 70&#39\;s and beyond. Mark has assembled an assortment of rare collectibles and personal favorites that are both fun and historically significant. A wide range of car manufacturers are showcased\, including some interesting old Toyotas!<br />\n<br />\nJoin other Chamber members for lunch and an exclusive look at this unique\, hidden treasure\, right here in Durham! Space is limited so register today!
LOCATION:Mark Jacobson Dream Machines 4521 Durham-Chapel Hill Blvd. Durham\, NC
UID:e.1159.4818
SEQUENCE:3
DTSTAMP:20260419T210316Z
URL:http://members.durhamchamber.org/events/details/event-full-executive-lunch-series-mark-jacobson-s-dream-machines-4818
END:VEVENT

END:VCALENDAR
