BEGIN:VCALENDAR
VERSION:2.0
PRODID:-//ChamberMaster//Event Calendar 2.0//EN
METHOD:PUBLISH
X-PUBLISHED-TTL:P3D
REFRESH-INTERVAL:P3D
CALSCALE:GREGORIAN
BEGIN:VEVENT
DTSTART:20200903T190000Z
DTEND:20200903T210000Z
X-MICROSOFT-CDO-ALLDAYEVENT:FALSE
SUMMARY:[Event Full] One-On-One: Your Business Instagram Page
DESCRIPTION:*This event on Sept. 3 is full. You may register and be put on the waitlist and be contacted when we offer this topic again.*\n\n\n\nThe Durham Chamber is excited to announce a new series\, One-On-One.\n\nMembers can reserve a 20 minute consultation with a local expert\, complimentary!\n\n\n\nOn Thursday\, September 3 from 3:00-5:00 p.m.\, Social Media expert NG Gordon will hold private 20 minute consultations with you\, to review your business Instagram profile and make suggestions on how to make it better and more appealing. \n\n\n\nPlease register for a time slot on the registration link above. (If you have any issues or questions\, contact Tiffany at tmalory@durhamchamber.org)\n\n\n\n \n\nAbout NG Gordon (DearMishuDad):\n\nSpeaker\, Influencer Marketing | Influencer on Social Media Influence \n\nA marketer's marketer\, ex-tennis pro\, and Silicon Valley tech entrepreneur\, N.G. has over 15 years of B2B and B2C marketing experience. N.G. writes about influencer marketing strategy as @DearMishuDad (dearmishudad.com) based on his experience as a brand owner and creator of the influential @DearMishu influencer account (an Advice Column written by his dog). \n\nng@dearmishudad.com\n\nTwitter: @DearMishuDad\n\nLinkedIn: https://www.linkedin.com/in/ngishere \n\nInstagram: @DearMishu
X-ALT-DESC;FMTTYPE=text/html:<p>*This event on Sept. 3 is full. You may register and be put on the waitlist and be contacted when we offer this topic again.*<br />\n<br />\nThe Durham Chamber is excited to announce a new series\,<em><strong> One-On-One.</strong></em><br />\nMembers can reserve a 20 minute consultation with a local expert\, complimentary!<br />\n<br />\nOn Thursday\, September 3 from 3:00-5:00 p.m.\,<strong> Social Media expert NG Gordon</strong> will hold private 20 minute consultations with you\, to review your business Instagram profile and make suggestions on how to make it better and more appealing.&nbsp\;<br />\n<br />\nPlease register for a time slot on the registration link above. (If you have any issues or questions\, contact Tiffany at tmalory@durhamchamber.org)<br />\n<br />\n&nbsp\;</p>\n\n<p><strong>About&nbsp\;NG Gordon (DearMishuDad):</strong></p>\n\n<p>Speaker\, Influencer Marketing | Influencer on Social Media Influence&nbsp\;<br />\nA marketer&#39\;s marketer\, ex-tennis pro\, and Silicon Valley tech entrepreneur\, N.G. has over 15 years of B2B and B2C marketing experience. N.G. writes about influencer marketing strategy as @DearMishuDad (dearmishudad.com) based on his experience as a brand owner and creator of the influential @DearMishu influencer account (an Advice Column written by his dog).&nbsp\;<br />\nng@dearmishudad.com<br />\nTwitter: @DearMishuDad<br />\nLinkedIn: https://www.linkedin.com/in/ngishere&nbsp\;<br />\nInstagram: @DearMishu&nbsp\;</p>\n
LOCATION:Virtual consultation NG will be in touch by email to set up your video consultation.
UID:e.1159.5509
SEQUENCE:3
DTSTAMP:20260420T020601Z
URL:http://members.durhamchamber.org/events/details/event-full-one-on-one-your-business-instagram-page-5509
END:VEVENT

END:VCALENDAR
