BEGIN:VCALENDAR
VERSION:2.0
PRODID:-//ChamberMaster//Event Calendar 2.0//EN
METHOD:PUBLISH
X-PUBLISHED-TTL:P3D
REFRESH-INTERVAL:P3D
CALSCALE:GREGORIAN
BEGIN:VEVENT
DTSTART:20190221T170000Z
DTEND:20190221T183000Z
X-MICROSOFT-CDO-ALLDAYEVENT:FALSE
SUMMARY:Executive Lunch Series: ABC-11
DESCRIPTION:Join other Chamber members for an exclusive behind-the-scenes look at ABC-11 Eyewitness News studios!\n\n\n\nMeet and hear from 2019 Durham Chamber Board Chair and ABC-11 President and General Manager Caroline Welch\, get a chance to be a newscaster\, and learn all the magic tricks it takes to produce a live\, local TV broadcast news program. \n\n\n\nThen enjoy lunch and connect with other Chamber members! Space is limited for this event\, so register today!\n\n(Due to anticipated attendance\, please limit 2 members from each organization.)
X-ALT-DESC;FMTTYPE=text/html:Join other Chamber members for an exclusive behind-the-scenes look at ABC-11 Eyewitness News studios!<br />\n<br />\nMeet and hear from 2019 Durham Chamber Board Chair and ABC-11 President and General Manager Caroline Welch\, get a chance to be a newscaster\, and learn all the magic tricks it takes to produce a live\, local TV broadcast news program.&nbsp\;<br />\n<br />\nThen enjoy lunch and connect with other Chamber members! Space is limited for this event\, so register today!<br />\n(Due to anticipated attendance\, please limit 2 members from each organization.)
LOCATION:ABC-11 Studios 411 Liberty Street Durham\, NC 27701
UID:e.1159.3673
SEQUENCE:3
DTSTAMP:20260423T013958Z
URL:http://members.durhamchamber.org/events/details/executive-lunch-series-abc-11-3673
END:VEVENT

END:VCALENDAR
