BEGIN:VCALENDAR
VERSION:2.0
PRODID:-//ChamberMaster//Event Calendar 2.0//EN
METHOD:PUBLISH
X-PUBLISHED-TTL:P3D
REFRESH-INTERVAL:P3D
CALSCALE:GREGORIAN
BEGIN:VEVENT
DTSTART:20181010T153000Z
DTEND:20181010T170000Z
X-MICROSOFT-CDO-ALLDAYEVENT:FALSE
SUMMARY:Executive Lunch Series: Full Frame Documentary Film Festival
DESCRIPTION:Join us for a unique Executive Lunch experience with the Full Frame Documentary Film Festival. You'll have an opportunity to learn more about the festival\, which has operated in Durham for over 21 years\, watch a short doc from a previous festival\, find out ways you and your business can get involved\, and enjoy lunch with other Chamber members.
X-ALT-DESC;FMTTYPE=text/html:<span style="font-family:tahoma\;"><span style="color:#D3D3D3\;"><span style="font-size:18px\;">Join us for a unique Executive Lunch experience with the Full Frame Documentary Film Festival. You&#39\;ll have an opportunity to learn more about the festival\, which has operated in Durham for over 21 years\, watch a short doc from a previous festival\, find out ways you and your business can get involved\, and enjoy lunch with other Chamber members.</span></span></span>
LOCATION:Full Frame Theatre 320 Blackwell Street #101 Durham\, NC 27701
UID:e.1159.3626
SEQUENCE:3
DTSTAMP:20260426T001602Z
URL:http://members.durhamchamber.org/events/details/executive-lunch-series-full-frame-documentary-film-festival-3626
END:VEVENT

END:VCALENDAR
