BEGIN:VCALENDAR
VERSION:2.0
PRODID:-//ChamberMaster//Event Calendar 2.0//EN
METHOD:PUBLISH
X-PUBLISHED-TTL:P3D
REFRESH-INTERVAL:P3D
CALSCALE:GREGORIAN
BEGIN:VEVENT
DTSTART:20190624T124500Z
DTEND:20190624T140000Z
X-MICROSOFT-CDO-ALLDAYEVENT:FALSE
SUMMARY:First Citizens Bank Ribbon Cutting
DESCRIPTION:Join us to celebrate the new First Citizens Bank location in RTP!
X-ALT-DESC;FMTTYPE=text/html:Join us to celebrate the new First Citizens Bank location in RTP!
LOCATION:First Citizens Bank 5714 Page Rd. RTP\, NC 27703
UID:e.1159.3749
SEQUENCE:3
DTSTAMP:20260421T184453Z
URL:http://members.durhamchamber.org/events/details/first-citizens-bank-ribbon-cutting-3749
END:VEVENT

END:VCALENDAR
