BEGIN:VCALENDAR
VERSION:2.0
PRODID:-//ChamberMaster//Event Calendar 2.0//EN
METHOD:PUBLISH
X-PUBLISHED-TTL:P3D
REFRESH-INTERVAL:P3D
CALSCALE:GREGORIAN
BEGIN:VEVENT
DTSTART:20200922T170000Z
DTEND:20200922T180000Z
X-MICROSOFT-CDO-ALLDAYEVENT:FALSE
SUMMARY:Get Your Business Online in a Blink- Stress Free Ways to Find the Right Software
DESCRIPTION:Presented by SCORE\n\n\n\nDo you need technology that helps you adapt to our new online world and meet demand after disruption strikes? Are you trying to digitize your business quickly but don't know where to start?\n\n\n\nTaylor Short and Sam Bonanno from Software Advice will walk you through easy and stress-free ways to help you find the right software to get your business online fast. They'll answer 3 critical questions you should think about as you adopt the right software for your business:\n\n	What problem do I need to solve with software?\n	 How do I choose the right software for my business?\n	How can I purchase software efficiently?\n	You'll get actionable tips for identifying the biggest challenges with current software\, what to look for when evaluating multiple products\, and how to accurately calculate the total cost of adopting new technology.
X-ALT-DESC;FMTTYPE=text/html:Presented by SCORE<br />\n<br />\nDo you need technology that helps you adapt to our new online world and meet demand after disruption strikes? Are you trying to digitize your business quickly but don&#39\;t know where to start?<br />\n<br />\nTaylor Short and Sam Bonanno from Software Advice will walk you through easy and stress-free ways to help you find the right software to get your business online fast. They&rsquo\;ll answer 3 critical questions you should think about as you adopt the right software for your business:\n<ul>\n	<li>What problem do I need to solve with software?</li>\n	<li>&#8203\;How do I choose the right software for my business?</li>\n	<li>How can I purchase software efficiently?</li>\n	<li>You&rsquo\;ll get actionable tips for identifying the biggest challenges with current software\, what to look for when evaluating multiple products\, and how to accurately calculate the total cost of adopting new technology.</li>\n</ul>\n
LOCATION:Online webinar
UID:e.1159.5553
SEQUENCE:3
DTSTAMP:20260420T005442Z
URL:http://members.durhamchamber.org/events/details/get-your-business-online-in-a-blink-stress-free-ways-to-find-the-right-software-5553
END:VEVENT

END:VCALENDAR
