BEGIN:VCALENDAR
VERSION:2.0
PRODID:-//ChamberMaster//Event Calendar 2.0//EN
METHOD:PUBLISH
X-PUBLISHED-TTL:P3D
REFRESH-INTERVAL:P3D
CALSCALE:GREGORIAN
BEGIN:VEVENT
DTSTART:20191011T190000Z
DTEND:20191011T230000Z
X-MICROSOFT-CDO-ALLDAYEVENT:FALSE
SUMMARY:Grand Opening and Ribbon Cutting: Triangle Business Systems
DESCRIPTION:Join us as we cut the ribbon and celebrate the Grand Opening of the new Triangle Business Systems location in Durham!\n\n \n\nEvent starts at 3pm. Ribbon cutting will take place at 4pm.
X-ALT-DESC;FMTTYPE=text/html:<p>Join us as we cut the ribbon and celebrate the Grand Opening of the new Triangle Business Systems location in Durham!<br />\n&nbsp\;</p>\n\n<p>Event starts at 3pm. Ribbon cutting will take place at 4pm.&nbsp\;</p>\n
LOCATION:Triangle Business Systems 4018 Patriot Dr. Ste 300 Durham\, NC 27703
UID:e.1159.3801
SEQUENCE:3
DTSTAMP:20260421T225608Z
URL:http://members.durhamchamber.org/events/details/grand-opening-and-ribbon-cutting-triangle-business-systems-3801
END:VEVENT

END:VCALENDAR
