BEGIN:VCALENDAR
VERSION:2.0
PRODID:-//ChamberMaster//Event Calendar 2.0//EN
METHOD:PUBLISH
X-PUBLISHED-TTL:P3D
REFRESH-INTERVAL:P3D
CALSCALE:GREGORIAN
BEGIN:VEVENT
DTSTART:20200430T160000Z
DTEND:20200430T170000Z
X-MICROSOFT-CDO-ALLDAYEVENT:FALSE
SUMMARY:How to Stay Focused and Follow Through
DESCRIPTION:It is easy to get distracted with so much going on in the world. However\, the most successful people are those who know how to maintain their focus and follow through on their goals. Learn how to be like them.\n\n\n\nLed by Kristin Hiemstra of The Art of Potential.\n\n\n\nKristn Ransford Hiemstra is a popular lecturer at North Carolina State University in the Jenkins MBA Program as well as a successful professional coach. \n\n\n\nA believer in the potential of each person\, Kristin enjoys working with people like you to align with their power and achieve their professional\, relationship\, and financial dreams. Her unique coaching approach will make you feel empowered\, inspired\, and confident. \n\n\n\nKristin has appeared on NBC and was host of The Art of Potential radio show on 97.9 WCHL for four years and was featured in Chapel Hill Magazine. Kristin has a BA from the University of North Carolina\, an M.Ed. from George Mason University\, a certificate in Human Resources from Duke University and a Certified Professional Coaching credential from the Institute for Professional Excellence in Coaching.\n\n\n\nKristin hosts the Answer the Call podcast with Brandon Millett. She and her husband\, Hans\, have two daughters\, Haley and Zoe and live in Chapel Hill\, NC.
X-ALT-DESC;FMTTYPE=text/html:It is easy to get distracted with so much going on in the world. However\, the most successful people are those who know how to maintain their focus and follow through on their goals. Learn how to be like them.<br />\n<br />\nLed by Kristin Hiemstra of <a href="https://www.artofpotential.com/">The Art of Potential.</a><br />\n<br />\nKristn Ransford Hiemstra is a popular lecturer at North Carolina State University in the Jenkins MBA Program as well as a successful professional coach.&nbsp\;<br />\n<br />\nA believer in the potential of each person\, Kristin enjoys working with people like you to align with their power and achieve their professional\, relationship\, and financial dreams. Her unique coaching approach will make you feel empowered\, inspired\, and confident.&nbsp\;<br />\n<br />\nKristin has appeared on NBC and was host of The Art of Potential radio show on 97.9 WCHL for four years and was featured in Chapel Hill Magazine. Kristin has a BA from the University of North Carolina\, an M.Ed. from George Mason University\, a certificate in Human Resources from Duke University and a Certified Professional Coaching credential from the Institute for Professional Excellence in Coaching.<br />\n<br />\nKristin hosts the Answer the Call podcast with Brandon Millett. She and her husband\, Hans\, have two daughters\, Haley and Zoe and live in Chapel Hill\, NC.<br />\n<br />\n&nbsp\;
LOCATION:Online Zoom Register here
UID:e.1159.5370
SEQUENCE:3
DTSTAMP:20260422T091220Z
URL:http://members.durhamchamber.org/events/details/how-to-stay-focused-and-follow-through-5370
END:VEVENT

END:VCALENDAR
