BEGIN:VCALENDAR
VERSION:2.0
PRODID:-//ChamberMaster//Event Calendar 2.0//EN
METHOD:PUBLISH
X-PUBLISHED-TTL:P3D
REFRESH-INTERVAL:P3D
CALSCALE:GREGORIAN
BEGIN:VEVENT
DTSTART:20200916T160000Z
DTEND:20200916T170000Z
X-MICROSOFT-CDO-ALLDAYEVENT:FALSE
SUMMARY:Marketing NOW: Artist Messaging In A Time Of Change
DESCRIPTION:Join Triangle-based marketing experts for a panel discussion on the current state of marketing and how it affects artists and craftspeople. Hosted by Susan Flower from Carusel\, this discussion will focus on the challenges of marketing your work when in-person events are difficult or unsafe and your customers can be hard to connect with. Marketing experts David Baldwin\, Christopher Everett and Alexis Jenssen will talk about the challenges and opportunities that our current world presents to artists. \n\n\n\nPanelists: \n\n	Christopher Everett\, Filmmaker\, Wilmington on Fire\, and Communications Manager of Full Frame Documentary Film Festival\n	Alexis Jenssen\, Owner of Bowerbird Agency\n	David Baldwin\, CEO of Baldwin &\n\nPresented by Triangle ArtWorks
X-ALT-DESC;FMTTYPE=text/html:Join Triangle-based marketing experts for a panel discussion on the current state of marketing and how it affects artists and craftspeople. Hosted by Susan Flower from Carusel\, this discussion will focus on the challenges of marketing your work when in-person events are difficult or unsafe and your customers can be hard to connect with. Marketing experts David Baldwin\, Christopher Everett and Alexis Jenssen will talk about the challenges and opportunities that our current world presents to artists.&nbsp\;<br />\n<br />\nPanelists:&nbsp\;\n<ul>\n	<li>Christopher Everett\, Filmmaker\, Wilmington on Fire\, and Communications Manager of Full Frame Documentary Film Festival</li>\n	<li>Alexis Jenssen\, Owner of Bowerbird Agency</li>\n	<li>David Baldwin\, CEO of Baldwin &amp\;</li>\n</ul>\nPresented by Triangle ArtWorks
LOCATION:Online via Zoom
UID:e.1159.5519
SEQUENCE:3
DTSTAMP:20260420T003929Z
URL:http://members.durhamchamber.org/events/details/marketing-now-artist-messaging-in-a-time-of-change-5519
END:VEVENT

END:VCALENDAR
