BEGIN:VCALENDAR
VERSION:2.0
PRODID:-//ChamberMaster//Event Calendar 2.0//EN
METHOD:PUBLISH
X-PUBLISHED-TTL:P3D
REFRESH-INTERVAL:P3D
CALSCALE:GREGORIAN
BEGIN:VEVENT
DTSTART:20191009T220000Z
DTEND:20191010T000000Z
X-MICROSOFT-CDO-ALLDAYEVENT:FALSE
SUMMARY:MED Week: Access to Capital for Minority Led Start-Ups
DESCRIPTION:MINORITY ENTERPRISE DEVELOPMENT WEEK: October 7-11\, 2019\n\n"Minority & Women Businesses: Success for All"\n\n \n\nThe Durham Chamber is proud to present the program on Wednesday\, October 9 from 6:00-8:00 p.m. at Provident1898.\n\n \n\nBusiness Financial Literacy: Access to Capital for Minority Led Start-Ups\n\n\n\nPanelists:\n\n\n	Doug Speight (AnnexTech) \n	Nish Evans (Lennox Grae)\n	Michael Johnson (Intelligent Office)\n\n\n\n\nCost: Free\, but registration requested\n\nLocation: Provident1898\, 411 W. Chapel Hill Street\n\n\n\nAre you a new business owner who is searching for money to get started? Sponsored by the Greater Durham Chamber of Commerce\, a panel of presenters will discuss access to capital for minority-owned\, small business start-ups. \n\nSpace is limited so register today!
X-ALT-DESC;FMTTYPE=text/html:<div><span style="font-size:16px\;"><span style="font-family:tahoma\;">MINORITY ENTERPRISE DEVELOPMENT WEEK: October 7-11\, 2019</span></span></div>\n\n<div><span style="font-size:16px\;"><span style="font-family:tahoma\;">&quot\;Minority &amp\; Women Businesses: Success for All&quot\;</span></span></div>\n\n<div>&nbsp\;</div>\n\n<div><span style="font-size:16px\;"><span style="font-family:tahoma\;">The Durham Chamber is proud to present the program on&nbsp\;Wednesday\, October 9 from 6:00-8:00 p.m. at Provident1898.</span></span><br />\n&nbsp\;</div>\n\n<div><span style="font-size:16px\;"><span style="font-family:tahoma\;">Business Financial Literacy: Access to Capital for Minority Led Start-Ups<br />\n<br />\nPanelists:</span></span></div>\n\n<ul>\n	<li><span style="font-size:16px\;"><span style="font-family:tahoma\;">Doug Speight (AnnexTech)&nbsp\;</span></span></li>\n	<li><span style="font-size:16px\;"><span style="font-family:tahoma\;">Nish Evans (Lennox Grae)</span></span></li>\n	<li><span style="font-size:16px\;"><span style="font-family:tahoma\;">Michael Johnson (Intelligent Office)</span></span></li>\n</ul>\n\n<div><br />\n<span style="font-size:16px\;"><span style="font-family:tahoma\;">Cost: Free\, but registration requested<br />\nLocation: Provident1898\, 411 W. Chapel Hill Street<br />\n<br />\nAre you a new business owner who is searching for money to get started? Sponsored by the Greater Durham Chamber of Commerce\, a panel of presenters will discuss access to capital for minority-owned\, small business start-ups.&nbsp\;</span></span></div>\n\n<div><span style="font-size:16px\;"><span style="font-family:tahoma\;">Space is limited so register today!</span></span></div>\n
LOCATION:Provident1898 411 West Chapel Hill Street Durham\, NC 27701
UID:e.1159.3790
SEQUENCE:3
DTSTAMP:20260419T203139Z
URL:http://members.durhamchamber.org/events/details/med-week-access-to-capital-for-minority-led-start-ups-3790
END:VEVENT

END:VCALENDAR
