BEGIN:VCALENDAR
VERSION:2.0
PRODID:-//ChamberMaster//Event Calendar 2.0//EN
METHOD:PUBLISH
X-PUBLISHED-TTL:P3D
REFRESH-INTERVAL:P3D
CALSCALE:GREGORIAN
BEGIN:VEVENT
DTSTART:20181205T230000Z
DTEND:20181206T020000Z
X-MICROSOFT-CDO-ALLDAYEVENT:FALSE
SUMMARY:[Member Event] American Underground Annual Awards
DESCRIPTION:Come join us for our 2018 End-Of-Year Celebration as we share and celebrate the impact and contributions of our AU community in our local startup ecosystem and region. AU members\, city and startup leaders\, media\, and members of the startup community are all welcome to come and help us close out this eventful year! This year\, all proceeds will go to Code The Dream to help local minorities and immigrants interested in tech find a pathway into the industry through coding education.
X-ALT-DESC;FMTTYPE=text/html:<span style="font-size:16px\;"><span style="font-family: arial\;">Come join us for our </span><strong>2018 End-Of-Year Celebration</strong><span style="font-family: arial\;"> as we share and celebrate the impact and contributions of our AU community in our local startup ecosystem and region. AU members\, city and startup leaders\, media\, and members of the startup community are all welcome to come and help us close out this eventful year! This year\, all proceeds will go to </span><a href="http://www.codethedream.org/" style="text-decoration-line: none\;"><span style="font-family: arial\;">Code The Dream</span></a><span style="font-family: arial\;"> to help local minorities and immigrants interested in tech find a pathway into the industry through coding education.</span></span>
LOCATION:The Cotton Room 307 E Main Street Durham\, NC 27701
UID:e.1159.3691
SEQUENCE:3
DTSTAMP:20260425T194015Z
URL:http://members.durhamchamber.org/events/details/member-event-american-underground-annual-awards-3691
END:VEVENT

END:VCALENDAR
