BEGIN:VCALENDAR
VERSION:2.0
PRODID:-//ChamberMaster//Event Calendar 2.0//EN
METHOD:PUBLISH
X-PUBLISHED-TTL:P3D
REFRESH-INTERVAL:P3D
CALSCALE:GREGORIAN
BEGIN:VEVENT
DTSTART:20190209T230000Z
DTEND:20190210T040000Z
X-MICROSOFT-CDO-ALLDAYEVENT:FALSE
SUMMARY:[Member Event] Feed the Need Gala 2019
DESCRIPTION:Join Meals on Wheels of Durham for an evening of great entertainment and exquisite dining at the Washington Duke Inn. The gala will also sponsor a silent auction where you can purchase from local artists\, restaurants\, tickets to local entertainment and sports venues\, and much more. \n\n\n\nAll proceeds will go directly to Meals on Wheels to help reach even more people in need. \n\n\n\nTickets are available at MOWGala.givesmart.com
X-ALT-DESC;FMTTYPE=text/html:Join <a href="https://www.mowdurham.org/">Meals on Wheels of Durham</a> for an evening of great entertainment and exquisite dining at the Washington Duke Inn. The gala will also sponsor a silent auction where you can purchase from local artists\, restaurants\, tickets to local entertainment and sports venues\, and much more.&nbsp\;<br />\n<br />\nAll proceeds will go directly to Meals on Wheels to help reach even more people in need.&nbsp\;<br />\n<br />\nTickets are available at MOWGala.givesmart.com<br />\n&nbsp\;
LOCATION:Washington Duke Inn & Golf Club 3001 Cameron Blvd Durham\, NC 27705
UID:e.1159.3690
SEQUENCE:3
DTSTAMP:20260424T045448Z
URL:http://members.durhamchamber.org/events/details/member-event-feed-the-need-gala-2019-3690
END:VEVENT

END:VCALENDAR
