BEGIN:VCALENDAR
VERSION:2.0
PRODID:-//ChamberMaster//Event Calendar 2.0//EN
METHOD:PUBLISH
X-PUBLISHED-TTL:P3D
REFRESH-INTERVAL:P3D
CALSCALE:GREGORIAN
BEGIN:VEVENT
DTSTART:20190515T120000Z
DTEND:20190515T130000Z
X-MICROSOFT-CDO-ALLDAYEVENT:FALSE
SUMMARY:[Member Event] Maximizing Your Impact as a Nonprofit Board Member
DESCRIPTION:Manning Fulton Mornings will be hosted in their Durham office from 8-9am.\n\n\n\nJoin in their facilitated community conversations\, centered around non-legal issues of importance to those who call the Bull City home.\n\n \n\nThe inaugural program will take place on Wednesday\, May 15 and be led by Susan Ross\, a noted Durham community leader and nonprofit expert\, and also Durham Chamber member. During the hour\, Ms. Ross will discuss ways to maximize one's impact as a nonprofit board member.
X-ALT-DESC;FMTTYPE=text/html:<em>Manning Fulton Mornings</em> will be hosted in their Durham office from 8-9am.<br />\n<br />\nJoin in their facilitated community conversations\, centered around non-legal issues of importance to those who call the Bull City home.<br />\n&nbsp\;<br />\nThe inaugural program will take place on Wednesday\, May 15 and be led by Susan Ross\, a noted Durham community leader and nonprofit expert\, and also Durham Chamber member. During the hour\, Ms. Ross will discuss ways to maximize one&rsquo\;s impact as a nonprofit board member.&nbsp\;
LOCATION:Manning Fulton Diamond View II 280 Mangum Street\, Suite 130 Durham\, NC 27701
UID:e.1159.3728
SEQUENCE:3
DTSTAMP:20260423T093540Z
URL:http://members.durhamchamber.org/events/details/member-event-maximizing-your-impact-as-a-nonprofit-board-member-3728
END:VEVENT

END:VCALENDAR
