BEGIN:VCALENDAR
VERSION:2.0
PRODID:-//ChamberMaster//Event Calendar 2.0//EN
METHOD:PUBLISH
X-PUBLISHED-TTL:P3D
REFRESH-INTERVAL:P3D
CALSCALE:GREGORIAN
BEGIN:VEVENT
DTSTART:20200118T150000Z
DTEND:20200118T190000Z
X-MICROSOFT-CDO-ALLDAYEVENT:FALSE
SUMMARY:[Member Event] New Year\, New You 2020
DESCRIPTION:Join DocSwiner for a refreshing women's conference that will inspire and spark ideas for your New Year! This year you can expect a wellness retreat vibe with empowering panelists\, local vendors\, VIP spa options\, and more. You will have an opportunity to engage with panelists and networking with fellow attendees!\n\n \n\nAre you ready for a renewal?
X-ALT-DESC;FMTTYPE=text/html:<div class="g-group l-lg-mar-bot-6 l-md-mar-bot-4  " style="margin: 0px 0px 30px\; padding: 0px\; font-size: 0px\; letter-spacing: 0px\; color: rgb(57\, 54\, 79)\; font-family: &quot\;Neue Plak&quot\;\, -apple-system\, BlinkMacSystemFont\, Roboto\, &quot\;Helvetica Neue&quot\;\, Helvetica\, Tahoma\, Arial\, sans-serif\; background-color: rgb(255\, 255\, 255)\;">\n<div class="g-cell g-cell-10-12 g-cell-md-1-1" style="margin: 0px\; padding: 0px 15px\; width: 560px\; box-sizing: border-box\; display: inline-block\; overflow: hidden\; vertical-align: top\; letter-spacing: 0.5px\; font-size: 0.933333rem\; line-height: 1.25rem\;">\n<div class="has-user-generated-content js-d-read-more read-more js-read-more read-more--medium-down read-more--expanded" data-xd-wired="read-more" dorsal-guid="c64a4a4f-eb9d-66c2-87bb-8cc29f659103" style="margin: 0px\; padding: 0px\;">\n<div class="js-xd-read-more-toggle-view read-more__toggle-view" style="margin: 0px\; padding: 0px\; overflow: hidden\; position: relative\; overflow-wrap: break-word\;">\n<div class="js-xd-read-more-contents text-body-medium" data-automation="listing-event-description" style="margin: 0px\; padding: 0px\; font-size: 0.933333rem\; line-height: 1.25rem\;"><span style="color:#000000\;"><span style="font-size:16px\;"><span style="font-family:tahoma\;">Join DocSwiner for a refreshing women&#39\;s conference that will inspire and spark ideas for your New Year! This year you can expect a wellness retreat vibe with empowering panelists\, local vendors\, VIP spa options\, and more. You will have an opportunity to engage with panelists and networking with fellow attendees!<br />\n&nbsp\;<br />\nAre you ready for a renewal?</span></span></span></div>\n</div>\n</div>\n</div>\n</div>\n
LOCATION:Provident1898 411 West Chapel Hill Street #Suite C2 Durham\, NC 27701
UID:e.1159.4823
SEQUENCE:3
DTSTAMP:20260420T230231Z
URL:http://members.durhamchamber.org/events/details/member-event-new-year-new-you-2020-4823
END:VEVENT

END:VCALENDAR
