BEGIN:VCALENDAR
VERSION:2.0
PRODID:-//ChamberMaster//Event Calendar 2.0//EN
METHOD:PUBLISH
X-PUBLISHED-TTL:P3D
REFRESH-INTERVAL:P3D
CALSCALE:GREGORIAN
BEGIN:VEVENT
DTSTART:20190428T160000Z
DTEND:20190428T220000Z
X-MICROSOFT-CDO-ALLDAYEVENT:FALSE
SUMMARY:[Member Event] Pinwheels Family Fun Day!
DESCRIPTION:Pinwheels Family Fun Day\n\nExchange Family Center?s Pinwheels Family Fun Day brings together families\, friends\, and the greater community to generate awareness about the importance of supporting families and teachers to help children be resilient.\n\nThis year\, Pinwheels will be held at Wheels Fun Park on Sunday\, April 28th\, 2019\, from noon to 6:00 pm.  Event admission includes fantastic Wheels Fun Park activities such as batting cage rounds\, mini golf (4 - 6 pm)\, a trip through the maze\, roller skating\, access to the fun gym\, and even a go kart ride!\n\n\n	Become a Sponsor\n	Sponshorship Levels\n	Tickets & Admission\n	Learn More!\n\n\nMini Golf Tournament\n\nExchange Family Center?s Pinwheels Mini Golf Tournament is returning for it's second year!  The adults-only event brings together friends\, colleagues\, and the greater community to generate awareness about the importance of supporting families and how we as a community can help children thrive now and as they grow. Come and join in on our little friendly competition!\n\n\n\nFor more information you may also visit us at www.exchangefamilycenter.org.
X-ALT-DESC;FMTTYPE=text/html:<h1>Pinwheels Family Fun Day</h1>\n\n<p>Exchange Family Center?s <em>Pinwheels Family Fun Day</em> brings together families\, friends\, and the greater community to generate awareness about the importance of supporting families and teachers to help children be resilient.</p>\n\n<p>This year\, Pinwheels will be held at <strong>Wheels Fun Park on Sunday\, April 28th\, 2019\,</strong> from noon to 6:00 pm. &nbsp\;Event admission includes fantastic Wheels Fun Park activities such as batting cage rounds\, mini golf (4 - 6 pm)\, a trip through the maze\, roller skating\,&nbsp\;access to the fun gym\, and even a go kart ride!</p>\n\n<ul>\n	<li><a href="http://bit.ly/EFCPinwheelsSponsor">Become a Sponsor</a></li>\n	<li><a href="http://bit.ly/EFCSponsorLevels">Sponshorship Levels</a></li>\n	<li><a href="http://bit.ly/EFCPinwheelsTickets">Tickets &amp\; Admission</a></li>\n	<li><a href="http://bit.ly/EFCPinwheelsFlyerEnglish">Learn More!</a></li>\n</ul>\n\n<h1>Mini Golf Tournament</h1>\n\n<p>Exchange Family Center?s <em>Pinwheels Mini Golf Tournament</em>&nbsp\;is returning for it&#39\;s second year!&nbsp\; The adults-only event brings together friends\, colleagues\,&nbsp\;and the greater community to generate awareness about the importance of supporting families and how we as a community can help children thrive now and as they grow.&nbsp\;<a href="http://bit.ly/EFCMiniGolfSignUp">Come and join</a> in on our little friendly competition!<br />\n<br />\nFor more information you may also visit us at <a href="http://bit.ly/EFCHomepage">www.exchangefamilycenter.org.</a></p>\n
LOCATION:Wheels Fun Park 715 N Hoover Rd. Durham\, NC 27703
UID:e.1159.3699
SEQUENCE:3
DTSTAMP:20260423T175444Z
URL:http://members.durhamchamber.org/events/details/member-event-pinwheels-family-fun-day-3699
END:VEVENT

END:VCALENDAR
