BEGIN:VCALENDAR
VERSION:2.0
PRODID:-//ChamberMaster//Event Calendar 2.0//EN
METHOD:PUBLISH
X-PUBLISHED-TTL:P3D
REFRESH-INTERVAL:P3D
CALSCALE:GREGORIAN
BEGIN:VEVENT
DTSTART:20181128T223000Z
DTEND:20181129T010000Z
X-MICROSOFT-CDO-ALLDAYEVENT:FALSE
SUMMARY:[Member Event] WeWork Fireside Chat with Mayor Steve Schewel
DESCRIPTION:Join us on Wednesday\, November 28th at WeWork One City Center for a unique opportunity to hear from Durham's very own Mayor Steve Schewel in an intimate conversation moderated by Leadership Triangle's Executive Director Jesica Averhart. \n\nThe City of Durham has embraced an agenda built on bold\, inclusive ideas. Mayor Schewel will discuss his vision and solutions to unlock the City's potential and empower the talent\, culture and innovation in the Bull City to drive success. \n\n\n\nThe chat will be followed by an official ribbon cutting of our new space and an evening of networking with the leaders and innovators of Durham. We may or may not have an exciting announcement to make that evening\, so you don't want to miss out! RSVP to claim your seat at we.co/durhamfireside and we hope to see you there!
X-ALT-DESC;FMTTYPE=text/html:<p><span style="font-family:arial\;"><span style="font-size:14px\;">Join us on Wednesday\, November 28th at WeWork One City Center for a unique opportunity to hear from Durham&#39\;s very own Mayor Steve Schewel&nbsp\;in an intimate conversation&nbsp\;moderated by Leadership Triangle&#39\;s Executive Director Jesica Averhart.&nbsp\;</span></span></p>\n\n<p><span style="font-family:arial\;"><span style="font-size:14px\;">The City of Durham has embraced an agenda built on bold\, inclusive ideas. Mayor Schewel will discuss his vision and solutions to unlock the City&#39\;s potential and empower the talent\, culture and innovation in the Bull City to drive success.&nbsp\;<br />\n<br />\nThe chat will be followed by an official ribbon cutting of our new space and an evening of networking with the leaders and innovators of Durham. We may or may not have an exciting announcement to make that evening\, so you don&#39\;t want to miss out! <strong>RSVP to claim your seat at <a href="http://we.co/durhamfireside">we.co/</a></strong><strong><a href="http://we.co/durhamfireside"><strong>durhamfireside</strong></a></strong><strong> and we&nbsp\;hope to see you there!</strong></span></span></p>\n
LOCATION:WeWork One City Center 110 Corcoran Street - Floor 5 Durham\, NC 27701
UID:e.1159.3689
SEQUENCE:3
DTSTAMP:20260425T103301Z
URL:http://members.durhamchamber.org/events/details/member-event-wework-fireside-chat-with-mayor-steve-schewel-3689
END:VEVENT

END:VCALENDAR
