BEGIN:VCALENDAR
VERSION:2.0
PRODID:-//ChamberMaster//Event Calendar 2.0//EN
METHOD:PUBLISH
X-PUBLISHED-TTL:P3D
REFRESH-INTERVAL:P3D
CALSCALE:GREGORIAN
BEGIN:VEVENT
DTSTART:20200903T180000Z
DTEND:20200903T193000Z
X-MICROSOFT-CDO-ALLDAYEVENT:FALSE
SUMMARY:Microsoft Teams for Everyday People - Part 2: Tasks\, To Dos\, and the Three Tiers
DESCRIPTION:It's part two of WorkSmart LIVE's Microsoft Teams everyday-user-friendly training\, so let's talk about the basics of "how-to" bring it all together into one window to rule them all. You'll learn about lists\, files storage\, scheduling\, and using the Three Tiers of Teams for effective team communication. \n\n\n\nCan't make it live? Register on the same form\, and you'll be sent the recording after the event.
X-ALT-DESC;FMTTYPE=text/html:It&#39\;s part two of WorkSmart LIVE&#39\;s Microsoft Teams everyday-user-friendly training\, so let&#39\;s talk about the basics of &quot\;how-to&quot\; bring it all together into one window to rule them all. You&#39\;ll learn about lists\, files storage\, scheduling\, and using the Three Tiers of Teams for effective team communication.&nbsp\;<br />\n<br />\nCan&#39\;t make it live? Register on the same form\, and you&#39\;ll be sent the recording after the event.
LOCATION:Online webinar
UID:e.1159.5501
SEQUENCE:3
DTSTAMP:20260420T023042Z
URL:http://members.durhamchamber.org/events/details/microsoft-teams-for-everyday-people-part-2-tasks-to-dos-and-the-three-tiers-5501
END:VEVENT

END:VCALENDAR
