BEGIN:VCALENDAR
VERSION:2.0
PRODID:-//ChamberMaster//Event Calendar 2.0//EN
METHOD:PUBLISH
X-PUBLISHED-TTL:P3D
REFRESH-INTERVAL:P3D
CALSCALE:GREGORIAN
BEGIN:VEVENT
DTSTART:20190821T133000Z
DTEND:20190821T143000Z
X-MICROSOFT-CDO-ALLDAYEVENT:FALSE
SUMMARY:New Member Orientation
DESCRIPTION:As a new member of the Durham Chamber\, you are invited to attend our New Member Orientation!\n\n\n\nCome see how to get the best return on your investment with the Chamber. You'll meet some of the staff\, learn what they do\, find out more about the Chamber and meet with your fellow new members.\n\n\n\nNot a new member\, but still want to get in on the action? Not a problem! New Member Orientation is open to all members of the Chamber who want to learn how to make their membership work.
X-ALT-DESC;FMTTYPE=text/html:<span style="font-size:16px\;"><span style="font-family:verdana\;">As a new member of the Durham Chamber\, you are invited to attend our New Member Orientation!<br />\n<br />\nCome see how to get the best return on your investment with the Chamber. You&#39\;ll meet some of the staff\, learn what they do\, find out more about the Chamber and meet with your fellow new members.<br />\n<br />\nNot a new member\, but still want to get in on the action? Not a problem! New Member Orientation is open to all members of the Chamber who want to learn how to make their membership work. </span></span>
LOCATION:Durham Chamber 300 West Morgan Street Suite 1400 Durham\, NC 27701
UID:e.1159.3737
SEQUENCE:3
DTSTAMP:20260421T053908Z
URL:http://members.durhamchamber.org/events/details/new-member-orientation-3737
END:VEVENT

END:VCALENDAR
