BEGIN:VCALENDAR
VERSION:2.0
PRODID:-//ChamberMaster//Event Calendar 2.0//EN
METHOD:PUBLISH
X-PUBLISHED-TTL:P3D
REFRESH-INTERVAL:P3D
CALSCALE:GREGORIAN
BEGIN:VEVENT
DTSTART:20190308T213000Z
DTEND:20190308T233000Z
X-MICROSOFT-CDO-ALLDAYEVENT:FALSE
SUMMARY:#NoBullCon19 After Party
DESCRIPTION:Join us for the after party to the Take No Bull Women's Conference at the all-new WeWork at One City Center in Downtown Durham! This is an opportunity to connect with the speakers\, fellow attendees\, and the mover and shakers of the Bull City. \n\n\n\nWe'll have music\, food\, drinks\, and more to make it fun. This event will have a limited capacity\, so make sure you sign up soon! See you there.\n\n\n\nCheck out the official Take No Bull Playlist with some tunes from our female event DJ Twenty3 leading up to the conference on Apple Music here!
X-ALT-DESC;FMTTYPE=text/html:Join us for the after party to the Take No Bull Women&#39\;s Conference at the all-new <a href="https://www.wework.com/buildings/one-city-center--raleigh-durham">WeWork </a>at One City Center in Downtown Durham! This is an opportunity to connect with the speakers\, fellow attendees\, and the mover and shakers of the Bull City.&nbsp\;<br />\n<br />\nWe&#39\;ll have music\, food\, drinks\, and more to make it fun. This event will have a limited capacity\, so make sure you sign up soon! See you there.<br />\n<br />\nCheck out the official <strong>Take No Bull Playlist </strong>with some tunes from our female event DJ Twenty3 leading up to the conference on Apple Music <a href="https://itunes.apple.com/us/playlist/take-no-bull-womens-conference/pl.u-38oWrb8Tggxk5G">here</a>!
LOCATION:WeWork 110 Corcoran Street Durham\, NC 27701
UID:e.1159.3716
SEQUENCE:3
DTSTAMP:20260423T094111Z
URL:http://members.durhamchamber.org/events/details/nobullcon19-after-party-3716
END:VEVENT

END:VCALENDAR
