BEGIN:VCALENDAR
VERSION:2.0
PRODID:-//ChamberMaster//Event Calendar 2.0//EN
METHOD:PUBLISH
X-PUBLISHED-TTL:P3D
REFRESH-INTERVAL:P3D
CALSCALE:GREGORIAN
BEGIN:VEVENT
DTSTART:20180130T143000Z
DTEND:20180130T160000Z
X-MICROSOFT-CDO-ALLDAYEVENT:FALSE
SUMMARY:Non-Profit Roundtable Discussion
DESCRIPTION:Are you a non-profit organization who is a member of the Durham Chamber? We want to hear from you! This roundtable is an opportunity to voice how we can better serve you as a non-profit and support a collaborative environment in Durham. Join us for a riveting conversation amongst your non-profit industry peers!
X-ALT-DESC;FMTTYPE=text/html:Are you a non-profit organization who is a member of the Durham Chamber? We want to hear from you! This roundtable is an opportunity to voice how we can better serve you as a non-profit and support a collaborative environment in Durham. Join us for a riveting conversation amongst your non-profit industry peers!
LOCATION:GDCC Office 300 West Morgan Street #1400 Durham\, NC 27701
UID:e.1159.3520
SEQUENCE:3
DTSTAMP:20260423T131754Z
URL:http://members.durhamchamber.org/events/details/non-profit-roundtable-discussion-3520
END:VEVENT

END:VCALENDAR
