BEGIN:VCALENDAR
VERSION:2.0
PRODID:-//ChamberMaster//Event Calendar 2.0//EN
METHOD:PUBLISH
X-PUBLISHED-TTL:P3D
REFRESH-INTERVAL:P3D
CALSCALE:GREGORIAN
BEGIN:VEVENT
DTSTART:20190917T130000Z
DTEND:20190917T160000Z
X-MICROSOFT-CDO-ALLDAYEVENT:FALSE
SUMMARY:Preventing Sexual Harassment
DESCRIPTION:In our Sexual Harassment Awareness training workshops your employees will learn and apply the important skills of handling sexual harassment issues and complaints. This hands on workshop thoroughly addresses the elements of how to prevent unacceptable behavior. The workshop includes a detailed overview of what sexual harassment is\, explains legal definitions\, discusses sexual harassment prevention\, and shows how to handle sexual harassment complaints and maintain a positive work environment.\n\n\n\n\n\nObjectives\n\n\n	\n	Define sexual harassment\;\n	\n	\n	Discuss what is and what is not sexual harassment\;\n	\n	\n	List factors that contribute to sexual harassment\;\n	\n	\n	Discuss how to prevent sexual harassment\; and\n	\n	\n	List the role & responsibilities relating to sexual harassment.
X-ALT-DESC;FMTTYPE=text/html:<p style="margin: 0px\; padding: 0px\; color: rgb(111\, 114\, 135)\; font-family: &quot\;Neue Plak&quot\;\, -apple-system\, BlinkMacSystemFont\, Roboto\, &quot\;Helvetica Neue&quot\;\, Helvetica\, Tahoma\, Arial\, sans-serif\; font-size: 14.9333px\; letter-spacing: 0.5px\;"><span style="padding-top: 0px\;">In our&nbsp\;</span><a href="https://www.sexualharassmenttraining.biz/sexual_harassment_seminars.html" rel="nofollow noopener noreferrer" style="color: var(--eds-control\,#3659e3)\; text-decoration-line: none\; cursor: pointer\; background-color: transparent\;" target="_blank">Sexual Harassment Awareness training workshops</a>&nbsp\;your employees will learn and apply the important skills of handling sexual harassment issues and complaints. This hands on workshop thoroughly addresses the elements of&nbsp\;how to&nbsp\;prevent unacceptable behavior. The workshop includes a detailed overview of what sexual harassment is\, explains legal definitions\, discusses sexual harassment prevention\, and shows how to handle sexual harassment complaints and maintain a positive work environment.</p>\n\n<div class="page" style="margin: 0px\; padding: 0px\; color: rgb(57\, 54\, 79)\; font-family: &quot\;Neue Plak&quot\;\, -apple-system\, BlinkMacSystemFont\, Roboto\, &quot\;Helvetica Neue&quot\;\, Helvetica\, Tahoma\, Arial\, sans-serif\; font-size: 14.9333px\; letter-spacing: 0.5px\;" title="Page 1">\n<div class="section" style="margin: 0px\; padding: 0px\;">\n<div class="layoutArea" style="margin: 0px\; padding: 0px\;">\n<div class="column" style="margin: 0px\; padding: 0px\;">\n<p style="margin: 0px\; padding: 0px\; color: rgb(111\, 114\, 135)\;"><span style="padding-top: 0px\;">Objectives</span></p>\n\n<ul style="margin: 0px\; padding-top: 10px\; padding-right: 0px\; padding-left: 2em\; list-style-position: initial\; list-style-image: initial\; color: rgb(111\, 114\, 135)\;">\n	<li style="margin: 0px\; padding: 0px\;">\n	<p style="margin: 0px\; padding: 0px\;"><span style="padding-top: 0px\;">Define sexual harassment\;</span></p>\n	</li>\n	<li style="margin: 0px\; padding: 5px 0px 0px\;">\n	<p style="margin: 0px\; padding: 0px\;"><span style="padding-top: 0px\;">Discuss what is and what is not sexual&nbsp\;</span>harassment\;</p>\n	</li>\n	<li style="margin: 0px\; padding: 5px 0px 0px\;">\n	<p style="margin: 0px\; padding: 0px\;"><span style="padding-top: 0px\;">List factors that contribute to sexual harassment\;</span></p>\n	</li>\n	<li style="margin: 0px\; padding: 5px 0px 0px\;">\n	<p style="margin: 0px\; padding: 0px\;"><span style="padding-top: 0px\;">Discuss how to prevent sexual harassment\; and</span></p>\n	</li>\n	<li style="margin: 0px\; padding: 5px 0px 0px\;">\n	<p style="margin: 0px\; padding: 0px\;"><span style="padding-top: 0px\;">List the role &amp\; responsibilities relating to sexual harassment.</span></p>\n	</li>\n</ul>\n</div>\n</div>\n</div>\n</div>\n
LOCATION:RTP Foundation 12 Davis Drive Durham\, NC 27709
UID:e.1159.3781
SEQUENCE:3
DTSTAMP:20260420T223203Z
URL:http://members.durhamchamber.org/events/details/preventing-sexual-harassment-3781
END:VEVENT

END:VCALENDAR
