BEGIN:VCALENDAR
VERSION:2.0
PRODID:-//ChamberMaster//Event Calendar 2.0//EN
METHOD:PUBLISH
X-PUBLISHED-TTL:P3D
REFRESH-INTERVAL:P3D
CALSCALE:GREGORIAN
BEGIN:VEVENT
DTSTART:20200930T223000Z
DTEND:20201001T000000Z
X-MICROSOFT-CDO-ALLDAYEVENT:FALSE
SUMMARY:Protect Your Brand Legally While Connecting with Customers Online + Managing Your Business Remotely
DESCRIPTION:Part of the Grow with Google Digital Coaching NC series.\n\n\n\nIs your brand legally protected? Join Grow with Google NC Coach Latesha Byrd for a workshop on the important steps to take while we all move to digital work during a pandemic. Our guest for this workshop is Darlene Harris\, business attorney and professional brand protector who will share the legal mistakes that entrepreneurs make often while running a business!!\n\n\n\nABOUT:\n\nAs a Certified Coach and Talent Development Consultant\, Latesha Byrd is the Founder and CEO of Byrd Career Consulting. Her work is centered at the intersection of career empowerment\, life design and professional positioning. She  partners with companies and universities to deliver keynotes\, training\, coaching and curriculum centered around culture engagement\, upward mobility and diversity and inclusion\, serving organizations such as Honeywell\, Zapier\, United Negro College Fund\, Duke University MBA program and City of Charlotte. As a Google Digital Coach for North Carolina\, she leads the effort on providing digital workshops to minority small business owners. She's also an Adjunct Faculty with the College of Business & Economics at North Carolina A&T State University\, and a Certified Life and Career Coach. Latesha has been featured in Forbes\, Wall Street Journal\, Money Magazine\, Vogue Business and Black Enterprise.\n\n\n\nLatesha Byrd serves Charlotte\, Raleigh\, and Durham as a digital coach.
X-ALT-DESC;FMTTYPE=text/html:Part of the Grow with Google Digital Coaching NC series.<br />\n<br />\nIs your brand legally protected? Join Grow with Google NC Coach Latesha Byrd for a workshop on the important steps to take while we all move to digital work during a pandemic. Our guest for this workshop is Darlene Harris\, business attorney and professional brand protector who will share the legal mistakes that entrepreneurs make often while running a business!!<br />\n<br />\nABOUT:<br />\nAs a Certified Coach and Talent Development Consultant\, Latesha Byrd is the Founder and CEO of Byrd Career Consulting. Her work is centered at the intersection of career empowerment\, life design and professional positioning. She&nbsp\; partners with companies and universities to deliver keynotes\, training\, coaching and curriculum centered around culture engagement\, upward mobility and diversity and inclusion\, serving organizations such as Honeywell\, Zapier\, United Negro College Fund\, Duke University MBA program and City of Charlotte. As a Google Digital Coach for North Carolina\, she leads the effort on providing digital workshops to minority small business owners. She&rsquo\;s also an Adjunct Faculty with the College of Business &amp\; Economics at North Carolina A&amp\;T State University\, and a Certified Life and Career Coach. Latesha has been featured in Forbes\, Wall Street Journal\, Money Magazine\, Vogue Business and Black Enterprise.<br />\n<br />\nLatesha Byrd serves Charlotte\, Raleigh\, and Durham as a digital coach.&nbsp\;
LOCATION:Online Program
UID:e.1159.5521
SEQUENCE:3
DTSTAMP:20260420T004931Z
URL:http://members.durhamchamber.org/events/details/protect-your-brand-legally-while-connecting-with-customers-online-managing-your-business-remotely-5521
END:VEVENT

END:VCALENDAR
