BEGIN:VCALENDAR
VERSION:2.0
PRODID:-//ChamberMaster//Event Calendar 2.0//EN
METHOD:PUBLISH
X-PUBLISHED-TTL:P3D
REFRESH-INTERVAL:P3D
CALSCALE:GREGORIAN
BEGIN:VEVENT
DTSTART:20181113T131500Z
DTEND:20181113T141500Z
X-MICROSOFT-CDO-ALLDAYEVENT:FALSE
SUMMARY:Public Policy Forum: GoTriangle
DESCRIPTION:Join us to hear updates on the Durham-Orange Light Rail Project and other regional initiatives from GoTriangle.\n\n\n\nWe encourage transit\, but valet\, street\, and deck parking are available nearby. We provide coffee and light breakfast.
X-ALT-DESC;FMTTYPE=text/html:Join us to hear updates on the <a href="https://gotriangle.org/lightrail/home">Durham-Orange Light Rail Project</a> and other regional initiatives from GoTriangle.<br />\n<br />\nWe encourage <a href="https://gotriangle.org/trip-planner">transit</a>\, but valet\, street\, and deck parking are available nearby. We provide coffee and light breakfast.
LOCATION:21c Museum Hotel 111 N Corcoran St Durham\, NC
UID:e.1159.3656
SEQUENCE:3
DTSTAMP:20260425T010322Z
URL:http://members.durhamchamber.org/events/details/public-policy-forum-gotriangle-3656
END:VEVENT

END:VCALENDAR
