BEGIN:VCALENDAR
VERSION:2.0
PRODID:-//ChamberMaster//Event Calendar 2.0//EN
METHOD:PUBLISH
X-PUBLISHED-TTL:P3D
REFRESH-INTERVAL:P3D
CALSCALE:GREGORIAN
BEGIN:VEVENT
DTSTART:20200901T130000Z
DTEND:20200901T160000Z
X-MICROSOFT-CDO-ALLDAYEVENT:FALSE
SUMMARY:Racial Equity Institute's A Groundwater Approach - Intro to Race Equity
DESCRIPTION:The Greater Durham Chamber of Commerce is proud to present a half-day Groundwater seminar with the Racial Equity Institute. This highly sought after series is a 3-hour introduction to racial equity.\n\n\n\nIn this virtual presentation\, REI organizers will use stories and data to present a perspective that racism is fundamentally structural in nature. By examining characteristics of modern-day racial inequity\, the presentation introduces participants to an analysis that most find immediately helpful and relevant.\n\n\n\n"The training provided by the Racial Equity Institute is truly life changing. Their explanation for the causes and consequences of institutional racism are compelling and convincing. This training is vitally important for our community's leaders in both the public and private sectors." - Bill Ingram\, Past President\, Durham Technical Community College\n\n\n\nSpace is limited for this virtual event so register today!\n\nThank you to the Racial Equity Institute for allowing us to offer this training below their normal prices for both members and non-members\, and to those who can pay for supporting some spaces for those who cannot.\n\n\n\nAbout Racial Equity Institute:\n\nThe Racial Equity Institute (REI) is an alliance of trainers and organizers\, established in 2007\, that is committed to bringing awareness and analysis to the root causes of racial disparities and disproportionality to create racially equitable organizations and systems. Even fifty years after significant civil rights' gains\, the impact of race continues to shape the outcomes of all institutions\, including churches. REI trainers and organizers help organizations develop tools and processes to challenge patterns of institutional power and to grow institutional equity. Our approach has a movement orientation\, always focused on organizing toward institutional change with equitable and just outcomes for people of color. We recognize many intersecting\n\noppressions\, but our belief is that racism is the glue that connects all oppressions\, and thus our focus is on racism and the injustices that stem from racialized history and belief systems that are reflected in American culture and institutions.\n\n\n\nOur theory of change is based on the following five assumptions and observations:\n\n1. Racial inequity in the United States looks the same across systems.\n\n2. Systems contribute significantly to disparities.\n\n3. Systemic interventions and training can work to change thinking\, reduce disparities\, and improve outcomes for all populations.\n\n4. We have powerful racial narratives in this country that have not changed\, even as laws and policies have changed. Dismantling racism requires changing persistent racial narratives.\n\n5. Change requires long-term commitment.
X-ALT-DESC;FMTTYPE=text/html:The Greater Durham Chamber of Commerce is proud to present a half-day Groundwater seminar<em>&nbsp\;</em>with the <a href="https://www.racialequityinstitute.com/">Racial Equity Institute</a>. This highly sought after series is a 3-hour introduction to racial equity.<br />\n<br />\nIn this virtual presentation\, REI organizers will use stories and data to present a perspective that racism is fundamentally structural in nature. By examining characteristics of modern-day racial inequity\, the presentation introduces participants to an analysis that most find immediately helpful and relevant.<br />\n<br />\n<em>&quot\;The training provided by the Racial Equity Institute is truly life changing. Their explanation for the causes and consequences of institutional racism are compelling and convincing. This training is vitally important for our community&#39\;s leaders in both the public and private sectors.&quot\;</em> - Bill Ingram\, Past President\, Durham Technical Community College<br />\n<br />\n<strong>Space is limited for this virtual event so register today!</strong><br />\nThank you to the Racial Equity Institute for allowing us to offer this training below their normal prices for both members and non-members\, and to those who can pay for supporting some spaces for those who cannot.<br />\n<br />\n<strong>About Racial Equity Institute:</strong><br />\nThe Racial Equity Institute (REI) is an alliance of trainers and organizers\, established in 2007\, that is committed to bringing awareness and analysis to the root causes of racial disparities and disproportionality to create racially equitable organizations and systems. Even fifty years after significant civil rights&rsquo\; gains\, the impact of race continues to shape the outcomes of all institutions\, including churches. REI trainers and organizers help organizations develop tools and processes to challenge patterns of institutional power and to grow institutional equity. Our approach has a movement orientation\, always focused on organizing toward institutional change with equitable and just outcomes for people of color. We recognize many intersecting<br />\noppressions\, but our belief is that racism is the glue that connects all oppressions\, and thus our focus is on racism and the injustices that stem from racialized history and belief systems that are reflected in American culture and institutions.<br />\n<br />\nOur theory of change is based on the following five assumptions and observations:<br />\n1. Racial inequity in the United States looks the same across systems.<br />\n2. Systems contribute significantly to disparities.<br />\n3. Systemic interventions and training can work to change thinking\, reduce disparities\, and improve outcomes for all populations.<br />\n4. We have powerful racial narratives in this country that have not changed\, even as laws and policies have changed. Dismantling racism requires changing persistent racial narratives.<br />\n5. Change requires long-term commitment.
LOCATION:Online Zoom Reserve your space now and link will be emailed to you before the event.
UID:e.1159.5478
SEQUENCE:3
DTSTAMP:20260420T005154Z
URL:http://members.durhamchamber.org/events/details/racial-equity-institute-s-a-groundwater-approach-intro-to-race-equity-5478
END:VEVENT

END:VCALENDAR
