BEGIN:VCALENDAR
VERSION:2.0
PRODID:-//ChamberMaster//Event Calendar 2.0//EN
METHOD:PUBLISH
X-PUBLISHED-TTL:P3D
REFRESH-INTERVAL:P3D
CALSCALE:GREGORIAN
BEGIN:VEVENT
DTSTART:20200917T230000Z
DTEND:20200918T003000Z
X-MICROSOFT-CDO-ALLDAYEVENT:FALSE
SUMMARY:Reach Customers Online: Online Marketing Fundamentals for New Brands That Want a Reset
DESCRIPTION:Part of the Grow with Google Digital Coaching NC series.\n\n\n\nAs an entrepreneur\, growing a business during a crisis branding can be confusing and complicated. Join Latesha for a step-by-step workshop on how customers find your business online\, and how to promote your business on Google\, while building an online marketing plan. Latesha will then host a fireside chat with Talib Graves Manns and Christopher Tuning\, Co-Founders of Life on Autopilot.\n\n\n\nABOUT:\n\nAs a Certified Coach and Talent Development Consultant\, Latesha Byrd is the Founder and CEO of Byrd Career Consulting. Her work is centered at the intersection of career empowerment\, life design and professional positioning. She  partners with companies and universities to deliver keynotes\, training\, coaching and curriculum centered around culture engagement\, upward mobility and diversity and inclusion\, serving organizations such as Honeywell\, Zapier\, United Negro College Fund\, Duke University MBA program and City of Charlotte. As a Google Digital Coach for North Carolina\, she leads the effort on providing digital workshops to minority small business owners. She's also an Adjunct Faculty with the College of Business & Economics at North Carolina A&T State University\, and a Certified Life and Career Coach. Latesha has been featured in Forbes\, Wall Street Journal\, Money Magazine\, Vogue Business and Black Enterprise.\n\n\n\nLatesha Byrd serves Charlotte\, Raleigh\, and Durham as a digital coach.
X-ALT-DESC;FMTTYPE=text/html:Part of the Grow with Google Digital Coaching NC series.<br />\n<br />\nAs an entrepreneur\, growing a business during a crisis branding can be confusing and complicated. Join Latesha for a step-by-step workshop on how customers find your business online\, and how to promote your business on Google\, while building an online marketing plan. Latesha will then host a fireside chat with Talib Graves Manns and Christopher Tuning\, Co-Founders of Life on Autopilot.<br />\n<br />\nABOUT:<br />\nAs a Certified Coach and Talent Development Consultant\, Latesha Byrd is the Founder and CEO of Byrd Career Consulting. Her work is centered at the intersection of career empowerment\, life design and professional positioning. She&nbsp\; partners with companies and universities to deliver keynotes\, training\, coaching and curriculum centered around culture engagement\, upward mobility and diversity and inclusion\, serving organizations such as Honeywell\, Zapier\, United Negro College Fund\, Duke University MBA program and City of Charlotte. As a Google Digital Coach for North Carolina\, she leads the effort on providing digital workshops to minority small business owners. She&rsquo\;s also an Adjunct Faculty with the College of Business &amp\; Economics at North Carolina A&amp\;T State University\, and a Certified Life and Career Coach. Latesha has been featured in Forbes\, Wall Street Journal\, Money Magazine\, Vogue Business and Black Enterprise.<br />\n<br />\nLatesha Byrd serves Charlotte\, Raleigh\, and Durham as a digital coach.&nbsp\;
LOCATION:Online Program
UID:e.1159.5520
SEQUENCE:3
DTSTAMP:20260420T005442Z
URL:http://members.durhamchamber.org/events/details/reach-customers-online-online-marketing-fundamentals-for-new-brands-that-want-a-reset-5520
END:VEVENT

END:VCALENDAR
