BEGIN:VCALENDAR
VERSION:2.0
PRODID:-//ChamberMaster//Event Calendar 2.0//EN
METHOD:PUBLISH
X-PUBLISHED-TTL:P3D
REFRESH-INTERVAL:P3D
CALSCALE:GREGORIAN
BEGIN:VEVENT
DTSTART:20190604T131500Z
DTEND:20190604T170000Z
X-MICROSOFT-CDO-ALLDAYEVENT:FALSE
SUMMARY:Reach Customers Online with Google\, presented by SCORE
DESCRIPTION:In this workshop\, you'll learn how customers find your business online and how to promote your online presence.\n\n \n\nYou will learn best practices for:\n\n  Creating a free Google My Business profile\n\n  Improving your website's visibility in Google's organic search results\, on all devices\n\n  Advertising your business on Google\n\nLed by Pamela Starr\, one of Google's professional national trainers\, this is a can't miss workshop for every small business owner.\n\n\n\n\n\nAbout Pamela:\n\nPamela Starr is a leading authority on building customer loyalty and a professional speaker Grow with Google. A sought-after keynote speaker\, Pamela also consults for brands and elite performers. She helps them achieve more measurable and profitable results from their digital and offline communication programs. For all her clients\, she delivers real-world tools and strategies that drive stellar results.\n\n\n\nPamela is known to many in the business community for her prior role as corporate Director of Product Training for North America at Constant Contact. In that position\, she directed the training activities that showed thousands of small businesses and non-profit organizations how to improve their digital media marketing efforts.\n\n\n\nPamela has dedicated her entire career to helping businesses and top performers grow. She has trained\, coached and delivered keynote presentations to more than 80\,000 professionals at more than 500 events. In addition\, she has logged more than 30 hours of live national television appearances.\n\n\n\nPamela has a bachelor's degree in Advertising from the Florida State University and completed graduate-level studies in Communication at the University of Central Florida.\n\n\n\nYou can connect with Pamela on her website: www.PamelaStarrOnline.com or through Twitter: @PamelaStarrFL.
X-ALT-DESC;FMTTYPE=text/html:<div>In this workshop\, you&#39\;ll learn how customers find your business online and how to promote your online presence.</div>\n\n<div>&nbsp\;</div>\n\n<div>You will learn best practices for:</div>\n\n<div>&bull\;<span style="white-space:pre"> </span>Creating a free Google My Business profile</div>\n\n<div>&bull\;<span style="white-space:pre"> </span>Improving your website&#39\;s visibility in Google&#39\;s organic search results\, on all devices</div>\n\n<div>&bull\;<span style="white-space:pre"> </span>Advertising your business on Google</div>\n\n<div>Led by Pamela Starr\, one of Google&#39\;s professional national trainers\, this is a can&#39\;t miss workshop for every small business owner.<br />\n<br />\n<br />\nAbout Pamela:<br />\nPamela Starr is a leading authority on building customer loyalty and a professional speaker Grow with Google. A sought-after keynote speaker\, Pamela also consults for brands and elite performers. She helps them achieve more measurable and profitable results from their digital and offline communication programs. For all her clients\, she delivers real-world tools and strategies that drive stellar results.<br />\n<br />\nPamela is known to many in the business community for her prior role as corporate Director of Product Training for North America at Constant Contact. In that position\, she directed the training activities that showed thousands of small businesses and non-profit organizations how to improve their digital media marketing efforts.</div>\n\n<div><br />\nPamela has dedicated her entire career to helping businesses and top performers grow. She has trained\, coached and delivered keynote presentations to more than 80\,000 professionals at more than 500 events. In addition\, she has logged more than 30 hours of live national television appearances.<br />\n<br />\nPamela has a bachelor&#39\;s degree in Advertising from the Florida State University and completed graduate-level studies in Communication at the University of Central Florida.<br />\n<br />\nYou can connect with Pamela on her website: www.PamelaStarrOnline.com or through Twitter: @PamelaStarrFL.</div>\n
LOCATION:Levin JCC - Jewish Federation of Durham-Chapel Hill 1937 West Cornwallis Road Durham\, NC 27705
UID:e.1159.3736
SEQUENCE:3
DTSTAMP:20260421T185040Z
URL:http://members.durhamchamber.org/events/details/reach-customers-online-with-google-presented-by-score-3736
END:VEVENT

END:VCALENDAR
