BEGIN:VCALENDAR
VERSION:2.0
PRODID:-//ChamberMaster//Event Calendar 2.0//EN
METHOD:PUBLISH
X-PUBLISHED-TTL:P3D
REFRESH-INTERVAL:P3D
CALSCALE:GREGORIAN
BEGIN:VEVENT
DTSTART:20190319T190000Z
DTEND:20190319T200000Z
X-MICROSOFT-CDO-ALLDAYEVENT:FALSE
SUMMARY:Restaurant Roundtable
DESCRIPTION:Are you a Chamber member who works in the restaurant industry in Durham? We want to hear from you! \n\n\n\nCome out for a roundtable discussion with your restaurant peers to talk with Chamber staff about how we can best serve your business. This is an opportunity to discuss\, brainstorm\, and shape your Chamber membership. It?s also a great way to connect with others in the business and talk about the challenges you face in Durham and to share ideas and celebrate wins!
X-ALT-DESC;FMTTYPE=text/html:Are you a Chamber member who works in the restaurant industry in Durham? We want to hear from you!&nbsp\;<br />\n<br />\nCome out for a roundtable discussion with your restaurant peers to talk with Chamber staff about how we can best serve your business. This is an opportunity to discuss\, brainstorm\, and shape your Chamber membership. It?s also a great way to connect with others in the business and talk about the challenges you face in Durham and to share ideas and celebrate wins!
LOCATION:GDCC Office 300 West Morgan Street #1400 Durham\, NC 27701
UID:e.1159.3675
SEQUENCE:3
DTSTAMP:20260422T172115Z
URL:http://members.durhamchamber.org/events/details/restaurant-roundtable-3675
END:VEVENT

END:VCALENDAR
