BEGIN:VCALENDAR
VERSION:2.0
PRODID:-//ChamberMaster//Event Calendar 2.0//EN
METHOD:PUBLISH
X-PUBLISHED-TTL:P3D
REFRESH-INTERVAL:P3D
CALSCALE:GREGORIAN
BEGIN:VEVENT
DTSTART:20200206T130000Z
DTEND:20200206T150000Z
X-MICROSOFT-CDO-ALLDAYEVENT:FALSE
SUMMARY:Ribbon Cutting: Benzer Pharmacy
DESCRIPTION:Join us for food and refreshments\, meet the caring staff\, and help Mayor Steve Schewel cut the ribbon at 9:30 a.m.\n\n\n\nBenzer Pharmacy is also partnering with the Marcus Harris Foundation and collecting everyday items to support displaced McDougald Terrace families. Suggested donations: baby supplies (diapers\, wipes\, formula)\, feminine products\, cleaning supplies\, school supplies\, toiletries\, non-perishable food items.
X-ALT-DESC;FMTTYPE=text/html:Join us for food and refreshments\, meet the caring staff\, and help Mayor Steve Schewel cut the ribbon at 9:30 a.m.<br />\n<br />\nBenzer Pharmacy is also partnering with the <a href="https://marcusharrisfoundation.org/">Marcus Harris Foundation</a>&nbsp\;and collecting everyday items&nbsp\;to support displaced McDougald Terrace families. Suggested donations: baby supplies (diapers\, wipes\, formula)\, feminine products\, cleaning supplies\, school supplies\, toiletries\, non-perishable food items.
LOCATION:Benzer Pharmacy 4711 Hope Valley Road Suite 5F Durham\, NC 27707
UID:e.1159.4833
SEQUENCE:3
DTSTAMP:20260420T063150Z
URL:http://members.durhamchamber.org/events/details/ribbon-cutting-benzer-pharmacy-4833
END:VEVENT

END:VCALENDAR
