BEGIN:VCALENDAR
VERSION:2.0
PRODID:-//ChamberMaster//Event Calendar 2.0//EN
METHOD:PUBLISH
X-PUBLISHED-TTL:P3D
REFRESH-INTERVAL:P3D
CALSCALE:GREGORIAN
BEGIN:VEVENT
DTSTART:20181109T210000Z
DTEND:20181109T213000Z
X-MICROSOFT-CDO-ALLDAYEVENT:FALSE
SUMMARY:Ribbon Cutting: Lock Starz Salon
DESCRIPTION:Join us for the grand opening and ribbon cutting of Lock Starz Salon!\n\n\n\nLock Starz specializes in the health and growth of natural hair with a focus on sisterlocks\, traditional locs\, and interlocks. Help us welcome them to the business community! \n\n\n\nThe ribbon will be cut by Councilmember Vernetta Alston.
X-ALT-DESC;FMTTYPE=text/html:Join us for the grand opening and ribbon cutting of Lock Starz Salon!<br />\n<br />\nLock Starz specializes in the health and growth of natural hair with a focus on <a href="https://www.ebony.com/style/everything-you-need-know-about-sisterlocks-and-traditional-locs">sisterlocks</a>\, traditional locs\, and interlocks. Help us welcome them to the business community!&nbsp\;<br />\n<br />\nThe ribbon will be cut by Councilmember Vernetta Alston.&nbsp\;<br />\n&nbsp\;
LOCATION:4600 Chapel Hill Blvd Suite 23-2 Durham\, NC 27707
UID:e.1159.3658
SEQUENCE:3
DTSTAMP:20260425T154542Z
URL:http://members.durhamchamber.org/events/details/ribbon-cutting-lock-starz-salon-3658
END:VEVENT

END:VCALENDAR
