BEGIN:VCALENDAR
VERSION:2.0
PRODID:-//ChamberMaster//Event Calendar 2.0//EN
METHOD:PUBLISH
X-PUBLISHED-TTL:P3D
REFRESH-INTERVAL:P3D
CALSCALE:GREGORIAN
BEGIN:VEVENT
DTSTART:20200222T170000Z
DTEND:20200222T180000Z
X-MICROSOFT-CDO-ALLDAYEVENT:FALSE
SUMMARY:Ribbon Cutting: The Scrap Exchange's Cameron Gallery
DESCRIPTION:Join us as we celebrate The Scrap Exchange's reimagined Cameron Art Gallery and Marketplace!
X-ALT-DESC;FMTTYPE=text/html:Join us as we celebrate The Scrap Exchange&#39\;s reimagined Cameron Art Gallery and Marketplace!
LOCATION:The Scrap Exchange 2050 Chapel Hill Road Durham\, NC 27707
UID:e.1159.5246
SEQUENCE:3
DTSTAMP:20260420T001200Z
URL:http://members.durhamchamber.org/events/details/ribbon-cutting-the-scrap-exchange-s-cameron-gallery-5246
END:VEVENT

END:VCALENDAR
