BEGIN:VCALENDAR
VERSION:2.0
PRODID:-//ChamberMaster//Event Calendar 2.0//EN
METHOD:PUBLISH
X-PUBLISHED-TTL:P3D
REFRESH-INTERVAL:P3D
CALSCALE:GREGORIAN
BEGIN:VEVENT
DTSTART:20190531T170000Z
DTEND:20190531T173000Z
X-MICROSOFT-CDO-ALLDAYEVENT:FALSE
SUMMARY:Ribbon Cutting: Triangle Rock Club
DESCRIPTION:NC based Triangle Rock Club is opening up phase 1 of their newest indoor climbing and fitness facility at 1010 Martin Luther King Jr Parkway\, a former Walmart building.  When complete\, the facility will be the largest indoor climbing facility in the Carolinas. \n\n\n\nJoin us for their grand opening and be one of the first people to check out this amazing facility!\n\n\n\nTours at 1pm\n\nRibbon cutting by Durham City Councilmember Charlie Reece and Mayor Pro Tempore Jillian Johnson at 1:15pm
X-ALT-DESC;FMTTYPE=text/html:<span style="font-size:16px\;"><span style="font-family:verdana\;">NC based Triangle Rock Club is opening up phase 1 of their newest indoor climbing and fitness facility at 1010 Martin Luther King Jr Parkway\, a former Walmart building.&nbsp\; When complete\, the facility will be the largest indoor climbing facility in the Carolinas.&nbsp\;<br />\n<br />\nJoin us for their grand opening and be one of the first people to check out this amazing facility!</span></span><br />\n<br />\nTours at 1pm<br />\nRibbon cutting by Durham City Councilmember Charlie Reece and Mayor Pro Tempore Jillian Johnson at 1:15pm
LOCATION:Triangle Rock Club 1010 Martin Luther King\, Jr. Blvd. Durham\, NC 27713
UID:e.1159.3729
SEQUENCE:3
DTSTAMP:20260423T072929Z
URL:http://members.durhamchamber.org/events/details/ribbon-cutting-triangle-rock-club-3729
END:VEVENT

END:VCALENDAR
