BEGIN:VCALENDAR
VERSION:2.0
PRODID:-//ChamberMaster//Event Calendar 2.0//EN
METHOD:PUBLISH
X-PUBLISHED-TTL:P3D
REFRESH-INTERVAL:P3D
CALSCALE:GREGORIAN
BEGIN:VEVENT
DTSTART:20190509T130000Z
DTEND:20190509T183000Z
X-MICROSOFT-CDO-ALLDAYEVENT:FALSE
SUMMARY:Rocky Mount Mills Tour
DESCRIPTION:The Durham Chamber is going on a Road Trip to Rocky Mount...and we want you to come along!\n\n\n\nPresented in partnership with Capitol Broadcasting Company\, (the company who first envisioned the American Tobacco Campus in downtown Durham)\, the historic Rocky Mount Mills is home to Class A office space\, residences\, restaurants and a brewery incubator. Rocky Mount Mills is an exciting example of the re-purposing and renewal of an historic North Carolina industrial space into a 21st century destination. We also will see the new River and Twine\, the new tiny-house hotel opening this summer! \n\n\n\nWe will also hear from Rocky Mount Mayor David Combs\, Rocky Mount Chamber President and CEO David Farris\, and Carolinas Gateway Partnership President and CEO Norris Tolson.\n\n\n\nTransportation will be provided. There will be two meeting spaces: downtown Durham and the parking lot at Streets of Southpoint. (Exact pick-up locations will be emailed in advance.)\n\n\n\nLunch and beer tasting included too! We suggest wearing comfortable shoes for the walking tour.\n\n\n\nSpace is limited\, so register today!
X-ALT-DESC;FMTTYPE=text/html:<span style="font-size:16px\;"><span style="font-family:verdana\;">The Durham Chamber is going on a Road Trip to Rocky Mount...and we want you to come along!<br />\n<br />\nPresented in partnership with Capitol Broadcasting Company\, (the company who first envisioned the American Tobacco Campus in downtown Durham)\, the historic Rocky Mount Mills is home to Class A office space\, residences\, restaurants and a brewery incubator. Rocky Mount Mills&nbsp\;is an exciting example of the re-purposing and renewal of an historic North Carolina industrial space into a 21<sup>st</sup> century destination. We also will see the new River and Twine\, the new tiny-house hotel opening this summer!&nbsp\;<br />\n<br />\nWe will also hear from Rocky Mount Mayor David Combs\, Rocky Mount Chamber President and CEO David Farris\, and Carolinas Gateway Partnership President and CEO Norris Tolson.</span></span><br />\n<br />\n<span style="font-size:16px\;"><span style="font-family:verdana\;">Transportation will be provided. There will be two meeting spaces: downtown Durham and the parking lot at Streets of Southpoint. (Exact pick-up locations will be emailed in advance.)<br />\n<br />\nLunch and beer tasting included too! We suggest wearing comfortable shoes for the walking tour.<br />\n<br />\nSpace is limited\, so register today!&nbsp\;</span></span>
LOCATION:Rocky Mount Mills
UID:e.1159.3710
SEQUENCE:3
DTSTAMP:20260424T174707Z
URL:http://members.durhamchamber.org/events/details/rocky-mount-mills-tour-3710
END:VEVENT

END:VCALENDAR
