BEGIN:VCALENDAR
VERSION:2.0
PRODID:-//ChamberMaster//Event Calendar 2.0//EN
METHOD:PUBLISH
X-PUBLISHED-TTL:P3D
REFRESH-INTERVAL:P3D
CALSCALE:GREGORIAN
BEGIN:VEVENT
DTSTART:20190521T113000Z
DTEND:20190521T140000Z
X-MICROSOFT-CDO-ALLDAYEVENT:FALSE
SUMMARY:Small Business Branding and Breakfast
DESCRIPTION:Join us as we talk about What Big Brands Know with brand expert Gerry O'Brion.\n\n\n\nGerry is a marketing keynote speaker and author who translates big brand strategies into knowledge that any business can use to win in the marketplace. Let Gerry share with YOU the lessons he has learned about branding companies of all sizes\, even companies like yours. TV is where brands go to get BIG.\n\n\n\nAt the event\, you can explore the Spectrum Reach Ad Portal - an exclusive new TV media buying tool that allows you to plan and purchase TV right from your computer\, on your own time and your budget. You can even create a ready-to-air TV commercial. Learn how our data-driven approach to advertising can help build your business.
X-ALT-DESC;FMTTYPE=text/html:<span style="font-size:16px\;"><span style="font-family:verdana\;">Join us as we talk about <strong>What Big Brands Know</strong> with brand expert Gerry O&rsquo\;Brion.<br />\n<br />\nGerry is a marketing keynote speaker and author who translates big brand strategies into knowledge that any business can use to win in the marketplace. Let Gerry share with YOU the lessons he has learned about branding companies of all sizes\, even companies like yours. TV is where brands go to get BIG.<br />\n<br />\nAt the event\, you can explore the Spectrum Reach Ad Portal - an exclusive new TV media buying tool that allows you to plan and purchase TV right from your computer\, on your own time and your budget. You can even create a ready-to-air TV commercial. Learn how our data-driven approach to advertising can help build your business.&nbsp\;</span></span>
LOCATION:The Umstead Hotel 100 Woodland Pond Drive Cary\, NC 27513
UID:e.1159.3730
SEQUENCE:3
DTSTAMP:20260424T005709Z
URL:http://members.durhamchamber.org/events/details/small-business-branding-and-breakfast-3730
END:VEVENT

END:VCALENDAR
