BEGIN:VCALENDAR
VERSION:2.0
PRODID:-//ChamberMaster//Event Calendar 2.0//EN
METHOD:PUBLISH
X-PUBLISHED-TTL:P3D
REFRESH-INTERVAL:P3D
CALSCALE:GREGORIAN
BEGIN:VEVENT
DTSTART:20210824T170000Z
DTEND:20210824T180000Z
X-MICROSOFT-CDO-ALLDAYEVENT:FALSE
SUMMARY:Use YouTube to Grow Your Business
DESCRIPTION:Get best practices for creating a YouTube Channel and compelling video content that promotes your products and services and drives engagement with your brand.\n\n\n\nThis virtual event will take place on Google Meet\, and you will need a Google account to register and attend. Please log-in to your existing account or sign up for a free Google account (you can use any email address).
X-ALT-DESC;FMTTYPE=text/html:Get best practices for creating a YouTube Channel and compelling video content that promotes your products and services and drives engagement with your brand.<br />\n<br />\nThis virtual event will take place on Google Meet\, and you will need a Google account to register and attend. Please log-in to your existing account or sign up for a free Google account (you can use any email address).&nbsp\;
LOCATION:Live Webinar
UID:e.1159.5754
SEQUENCE:3
DTSTAMP:20260422T105701Z
URL:http://members.durhamchamber.org/events/details/use-youtube-to-grow-your-business-5754
END:VEVENT

END:VCALENDAR
