BEGIN:VCALENDAR
VERSION:2.0
PRODID:-//ChamberMaster//Event Calendar 2.0//EN
METHOD:PUBLISH
X-PUBLISHED-TTL:P3D
REFRESH-INTERVAL:P3D
CALSCALE:GREGORIAN
BEGIN:VEVENT
DTSTART:20191018T180000Z
DTEND:20191018T200000Z
X-MICROSOFT-CDO-ALLDAYEVENT:FALSE
SUMMARY:Volunteer with Us! Keep Durham Beautiful - THE BIG SWEEP
DESCRIPTION:Every October\, groups from across Durham volunteer to pick up litter in their local neighborhoods\, parks\, and streams.\n\n\n\nThis is Durham's largest litter cleanup event of the year\, coordinated by Keep Durham Beautiful\, Durham County Soil and Water Conservation\, and the City of Durham Stormwater & GIS Services Division\, with additional support provided by the Durham County General Services Department and the City of Durham Neighborhood Improvement Services Department. \n\n\n\nOver 5\,700 Big Sweep volunteers have picked up 177\,000 pounds of litter since 2005. In 2018\, 539 Big Sweep volunteers removed 17\,000 pounds of waste\, including 369 tires\, from 33 cleanup sites. This event provides countless benefits to the communities involved\, and is one of the most impactful means of keeping Durham beautiful.\n\n\n\nParticipating volunteers will receive trash bags\, gloves\, litter grabbers\, and vests. The City's Neighborhood Improvement Services Department and Durham County General Services assure that collected litter is properly recycled or sent to the landfill. \n\n\n\nJoin our Durham Chamber team on October 18 from 2:00-4:00 p.m. and meet other Chamber members\, make connections\, and have fun as we make a difference in our city.\n\n\n\nRegister with us today!
X-ALT-DESC;FMTTYPE=text/html:Every October\, groups from across Durham volunteer to pick up litter in their local neighborhoods\, parks\, and streams.<br />\n<br />\nThis is Durham&#39\;s largest litter cleanup event of the year\, coordinated by Keep Durham Beautiful\, Durham County Soil and Water Conservation\, and the City of Durham Stormwater &amp\; GIS Services Division\, with additional support provided by the Durham County General Services Department and the City of Durham Neighborhood Improvement Services Department.&nbsp\;<br />\n<br />\nOver 5\,700 Big Sweep volunteers have picked up 177\,000 pounds of litter since 2005. In 2018\, 539 Big Sweep volunteers removed 17\,000 pounds of waste\, including 369 tires\, from 33 cleanup sites. This event provides countless benefits to the communities involved\, and is one of the most impactful means of keeping Durham beautiful.<br />\n<br />\nParticipating volunteers will receive trash bags\, gloves\, litter grabbers\, and vests. The City&rsquo\;s Neighborhood Improvement Services Department and Durham County General Services assure that collected litter is properly recycled or sent to the landfill.&nbsp\;<br />\n<br />\nJoin our Durham Chamber team on October 18 from 2:00-4:00 p.m. and meet other Chamber members\, make connections\, and have fun as we make a difference in our city.<br />\n<br />\nRegister with us today!
LOCATION:Location TBD
UID:e.1159.3789
SEQUENCE:3
DTSTAMP:20260419T175830Z
URL:http://members.durhamchamber.org/events/details/volunteer-with-us-keep-durham-beautiful-the-big-sweep-3789
END:VEVENT

END:VCALENDAR
